BEGIN:VCALENDAR
VERSION:2.0
PRODID:-//www.loftkoeln.de - ECPv5.14.2.1//NONSGML v1.0//EN
CALSCALE:GREGORIAN
METHOD:PUBLISH
X-WR-CALNAME:www.loftkoeln.de
X-ORIGINAL-URL:https://www.loftkoeln.de
X-WR-CALDESC:Veranstaltungen für www.loftkoeln.de
BEGIN:VTIMEZONE
TZID:Europe/Berlin
BEGIN:DAYLIGHT
TZOFFSETFROM:+0100
TZOFFSETTO:+0200
TZNAME:CEST
DTSTART:20260329T010000
END:DAYLIGHT
BEGIN:STANDARD
TZOFFSETFROM:+0200
TZOFFSETTO:+0100
TZNAME:CET
DTSTART:20261025T010000
END:STANDARD
END:VTIMEZONE
BEGIN:VEVENT
DTSTART;TZID=Europe/Berlin:20260420T200000
DTEND;TZID=Europe/Berlin:20260420T200000
DTSTAMP:20260421T113818
CREATED:20260305T084500Z
LAST-MODIFIED:20260407T083623Z
UID:32375-1776715200-1776715200@www.loftkoeln.de
SUMMARY:SOLO Festival by Robert Landfermann - day 01 | live recording
DESCRIPTION:Robert Landfermann – Bass \nJulia Sanjurjo – Stimme \nMaria Cozzani – Violine \nVictor „Big Breezy“ Fox – Saxophone \n\n(english: see below) \nWeitere Informationen zu den Preisen\, Karten-Reservierungen und den Öffnungszeiten finden Sie hier.\n\n\n\n\n\nVictor „Big Breezy“ Fox © Gerhard Richter ; Julia Sanjurjo © Jimena Nacht ; Robert Landfermann © Patrick Essex ; Maria Cozzani by artist\nDieses 2-tägige Festival widmet sich ganz der Solo Improvisation.  \nDie Künstler*innen auf diesem Festival sind keine bloßen Interpret*innen bestehender Werke. Sie sind Schöpfer*innen\, die in der vollen Freiheit ihrer eigenen Improvisationen agieren.\nMit ihren Instrumenten\, ihrer Stimme\, oder ganz allein mit dem\, was sie tun können\, erfinden sie die Musik im Moment. Es gibt keine festen Melodien\, keine traditionellen Formen\, keine Vorgaben – nur das hier und jetzt\, die rohe\, ungeschliffene Kreativität. \n„Music is for me a constant dialogue with myself. In silence\, I find the space where I can connect with the music—without external distractions. When I’m alone with my instrument\, I’m in my full power.“\nBillie Holiday \n„Es gibt Momente\, in denen Musik nur dann existiert\, wenn sie in der Stille und im Alleinsein geboren wird. Die besten Kompositionen kommen nicht durch den Lärm der Welt\, sondern durch den Dialog mit sich selbst.“\nJohann Sebastian Bach \n„Jazz is a very personal music. When I play alone\, I listen to myself and let the melodies come from within. There’s no room for wrong notes—it’s a conversation with myself and my music.“\nMary Lou Williams \n„Jazz is like a journey into the unknown. When I play alone\, I can tear down all the walls that might hold me back. The music takes me on a journey that only I can understand. Playing alone means freeing myself from everything that stands in my way.“John Coltrane \n\nMaria Isolina Cozzani (*1994) ist eine deutsch-italienische Violinistin\, Komponistin und Multimediakünstlerin mit Sitz in Köln. Ihre musikalische Sprache bewegt sich souverän zwischen Klassik\, Jazz\, zeitgenössischer Musik und freier Improvisation – eine Bandbreite\, die sie in Orchestern\, Kammermusikensembles und interdisziplinären Projekten quer durch Europa unter Beweis stellt. Cozzani absolvierte ihren Master of Music an der renommierten ArtEZ Hochschule für Künste\, wo sie die Verbindung von Klang\, Raum\, Bild und Licht als kompositorisches Prinzip entwickelte. Ihr künstlerisches Schaffen verbindet Musik konsequent mit visuellen und performativen Elementen. \nhttps://www.mariaisolinacozzani.com \nVictor „Big Breezy“ Fox (*2000\, Seligenstadt) zählt zu den bemerkenswertesten Jazztalenten seiner Generation. Seit seinem neunten Lebensjahr spielt er Saxophon\, von 2016 bis 2018 war er Mitglied des Bundesjazzorchesters als Erster Tenorsaxophonist – laut Offenbach Post der mit Abstand jüngste Musiker seit Gründung der Formation.\nInternationale Tourneen führten ihn in Länder wie die USA\, Ecuador\, China\, Indien und England\, wo er auf der Bühne u.a. mit Dee Dee Bridgewater\, Branford Marsalis\, Evan Parker und Peter Brötzmann zusammentraf.\nHeute lebt und arbeitet er als Saxophonist\, Bassklarinettist\, Komponist und Improvisator in Köln\, und bewegt sich souverän zwischen Jazz\, Improvisation und Avantgarde. \nhttps://de.wikipedia.org/wiki/Victor_Fox_(Jazzmusiker) \nJulia Sanjurjo wurde in Mar del Plata\, Argentinien\, geboren und ist eine vielseitige Sängerin\, Komponistin und Arrangeurin\, deren künstlerisches Schaffen sich an der Schnittstelle von zeitgenössischer Musik\, Jazz und improvisierter Musik bewegt. Sie schloss ihr Kompositionsstudium an der Nationalen Universität in Argentinien ab und absolvierte anschließend ein Masterstudium in Jazz-Komposition und Arrangement an der Hochschule für Musik und Tanz Köln.\nAls Komponistin und Arrangeurin arbeitete sie mit renommierten Ensembles zusammen\, darunter das Nationale Orchester für Argentinische Musik und das Akademische Orchester des Teatro Colón. Als Solistin kollaborierte sie mit Musikerpersönlichkeiten wie Heiner Goebbels und Joëlle Léandre und trat zuletzt am IRCAM – Centre Pompidou in Paris auf.\nSie war Stipendiatin des Nationalen Fonds für die Künste (2015\, 2017\, 2020) sowie des Mozarteums Argentinien (2022) und lebt heute in Köln. \nRobert Landfermann zählt zu den markantesten Stimmen des zeitgenössischen europäischen Jazz. Der 1982 in Oberwinter geborene Kontrabassist und Komponist studierte bei Dieter Manderscheid an der Musikhochschule Köln und arbeitete mit Musikern wie John Scofield\, Lee Konitz\, Joachim Kühn\, Tomasz Stanko und Chris Potter. Konzerttouren führten ihn durch über 50 Länder auf allen Kontinenten. Als Mitbegründer des einflussreichen Kölner Jazzkollektivs KLAENG und langjähriges Mitglied des Pablo Held Trios hat er sich als zentrale Figur der Kölner Jazzszene etabliert. 2022 wurde er mit dem Deutschen Jazzpreis in der Kategorie Bass (national) ausgezeichnet. Mit seinem Quintett und zahlreichen Eigenprojekten – darunter die Alben Night Will Fall\, Brief und zuletzt Rhenus – verbindet Landfermann kompositorische Präzision mit leidenschaftlicher Improvisationskunst. \n\nhttps://robertlandfermann.com/ \n\n\n\nRobert Landfermann – bass \nJulia Sanjurjo – voice \nMaria Cozzani – violine \nVictor „Big Breezy“ Fox – saxophones \n\nFurther information about prices\, ticket reservations and our opening times can be found here.\n\n\nThis two-day festival is dedicated entirely to solo improvisation. \nThe artists at this festival are not mere interpreters of existing works. They are creators who act in the complete freedom of their own improvisations.\nWith their instruments\, their voices\, or simply with what they can do\, they invent music in the moment. There are no fixed melodies\, no traditional forms\, no guidelines—just the here and now\, raw\, unpolished creativity. \n„Music is for me a constant dialogue with myself. In silence\, I find the space where I can connect with the music—without external distractions. When I’m alone with my instrument\, I’m in my full power.“\nBillie Holiday \n“There are moments when music only exists when it is born in silence and solitude. The best compositions do not come through the noise of the world\, but through dialogue with oneself.”\nJohann Sebastian Bach \n„Jazz is a very personal music. When I play alone\, I listen to myself and let the melodies come from within. There’s no room for wrong notes—it’s a conversation with myself and my music.“\nMary Lou Williams \n„Jazz is like a journey into the unknown. When I play alone\, I can tear down all the walls that might hold me back. The music takes me on a journey that only I can understand. Playing alone means freeing myself from everything that stands in my way.“John Coltrane \n\n\nMaria Isolina Cozzani (born 1994) is a German-Italian violinist\, composer\, and multimedia artist based in Cologne. Her musical language moves confidently between classical\, jazz\, contemporary music\, and free improvisation—a range she demonstrates in orchestras\, chamber music ensembles\, and interdisciplinary projects across Europe. Cozzani completed her Master of Music at the renowned ArtEZ University of the Arts\, where she developed the connection between sound\, space\, image\, and light as a compositional principle. Her artistic work consistently combines music with visual and performative elements. \nhttps://www.mariaisolinacozzani.com \nVictor “Big Breezy” Fox (born 2000\, Seligenstadt) is one of the most remarkable jazz talents of his generation. He has been playing the saxophone since the age of nine and was a member of the German National Youth Jazz Orchestra as first tenor saxophonist from 2016 to 2018 – according to the Offenbach Post\, by far the youngest musician since the orchestra was founded.\nInternational tours have taken him to countries such as the USA\, Ecuador\, China\, India\, and England\, where he has shared the stage with Dee Dee Bridgewater\, Branford Marsalis\, Evan Parker\, and Peter Brötzmann\, among others.\nToday\, he lives and works as a saxophonist\, bass clarinetist\, composer\, and improviser in Cologne\, moving confidently between jazz\, improvisation\, and avant-garde. \nhttps://de.wikipedia.org/wiki/Victor_Fox_(Jazzmusiker) \n\nJulia Sanjurjo was born in Mar del Plata\, Argentina\, and is a versatile singer\, composer\, and arranger whose artistic work lies at the intersection of contemporary music\, jazz\, and improvised music. She completed her composition studies at the National University in Argentina and then went on to earn a master’s degree in jazz composition and arrangement at the Cologne University of Music and Dance.\nAs a composer and arranger\, she has worked with renowned ensembles\, including the National Orchestra of Argentine Music and the Academic Orchestra of the Teatro Colón. As a soloist\, she has collaborated with musicians such as Heiner Goebbels and Joëlle Léandre and most recently performed at IRCAM – Centre Pompidou in Paris.\nShe was a scholarship holder of the National Fund for the Arts (2015\, 2017\, 2020) and the Mozarteum Argentina (2022) and now lives in Cologne. \nRobert Landfermann is one of the most distinctive voices in contemporary European jazz. Born in Oberwinter in 1982\, the double bassist and composer studied with Dieter Manderscheid at the Cologne University of Music and worked with musicians such as John Scofield\, Lee Konitz\, Joachim Kühn\, Tomasz Stanko\, and Chris Potter. Concert tours have taken him to over 50 countries on all continents. As co-founder of the influential Cologne jazz collective KLAENG and a long-time member of the Pablo Held Trio\, he has established himself as a central figure in the Cologne jazz scene. In 2022\, he was awarded the German Jazz Prize in the bass (national) category. With his quintet and numerous solo projects—including the albums Night Will Fall\, Brief\, and most recently Rhenus—Landfermann combines compositional precision with passionate improvisation. \nhttps://robertlandfermann.com/
URL:https://www.loftkoeln.de/event/solo-festival-by-robert-landfermann-day-01-live-recording/
END:VEVENT
END:VCALENDAR