BEGIN:VCALENDAR
VERSION:2.0
PRODID:-//www.loftkoeln.de - ECPv5.14.2.1//NONSGML v1.0//EN
CALSCALE:GREGORIAN
METHOD:PUBLISH
X-WR-CALNAME:www.loftkoeln.de
X-ORIGINAL-URL:https://www.loftkoeln.de
X-WR-CALDESC:Veranstaltungen für www.loftkoeln.de
BEGIN:VTIMEZONE
TZID:Europe/Berlin
BEGIN:DAYLIGHT
TZOFFSETFROM:+0100
TZOFFSETTO:+0200
TZNAME:CEST
DTSTART:20220327T010000
END:DAYLIGHT
BEGIN:STANDARD
TZOFFSETFROM:+0200
TZOFFSETTO:+0100
TZNAME:CET
DTSTART:20221030T010000
END:STANDARD
END:VTIMEZONE
BEGIN:VEVENT
DTSTART;TZID=Europe/Berlin:20221118T203000
DTEND;TZID=Europe/Berlin:20221118T203000
DTSTAMP:20260422T162226
CREATED:20221006T163108Z
LAST-MODIFIED:20251205T140615Z
UID:21941-1668803400-1668803400@www.loftkoeln.de
SUMMARY:SoKo Steidle
DESCRIPTION:Henrik Walsdorff – Altsaxophon\nRudi Mahall – Bassklarinette\nJan Roder – Bass\nOli Steidle – Schlagzeug \n\n\n(english: see below) \nInformationen zu den Preisen\, Karten-Reservierungen und den Öffnungszeiten finden Sie hier.\n\nEin gänzlich eigenwilliger und zeitloser Sound zeichnet die SoKo Steidle aus. Diese Viererbande hat sich komplett der freien Improvisation zugewandt\, dieser aus musikhistorischer Notwendigkeit entstandenen Spielweise\, die heute mehr denn je auf der ganzen Welt zelebriert wird. \nhttp://oliversteidle.com/soko-steidle/ \nOliver Steidle – Namensgeber des Quartetts und Träger des Deutschen Jazzpreises 2022 in der Kategorie „Drummer des Jahres“ – zählt schon seit geraumer Zeit zu den angesagtesten\, versiertesten und zukunftsweisenden Musikern der jungen europäischen Avantgarde. Er hat durch zahlreiche\, prominente Engagements und seine eigenen Bands Oli Steidle & the killing Popes\, Oliwood und SoKo Steidle seinen Platz im internationalen Konzertbetrieb gefunden\, und ist von dort nicht mehr wegzudenken.\nEr ist seit Jahren Mitglied bei PHILM (Deutscher Jazzpreis 2021 Band des Jahres)\, Der Rote Bereich\, Klima Kalima \, spielte mit Peter Brötzmann\, Andrea Parkins\, Alexander von Schlippenbach\, Aki Takase\, Louis Sclavis\, Tristan Honsinger\, Trevor Dunn\, u.v.a.\, jettet unaufhörlich durch die Welt\, schreibt Musik\, ist undogmatisch\, hat zahlreiche Preise gewonnen und auf allen wichtigen\, nennenswerten Festivals gespielt.\nGleiches gilt für Rudi Mahall\, Henrik Walsdorff und Jan Roder die\, wie Steidle\, zur Speerspitze der internationalen Avantgarde zählen.\nHier\, im Kollektiv ausgezeichneter Musiker\, entstehen enorm vielseitige und stimmungsvolle Klangkreationen\, die von rivalisierender Konkurrenz bis hin zu harmonischem Zusammenspiel reichen. Spontaneität und Freiheit im Spiel und die benötigte Verantwortung\, ohne Vorgaben zu gestalten\, sind die wichtigen Grundlagen für diese Musik. Des weiteren bedarf es neben der Hingabe zur Sache\, der Fähigkeit sich zusammen zu finden\, d.h. eine optimale personelle Kombination im Ensemble zu finden. \nSo überrascht es nicht\, dass Alexander von Schlippenbach einst über SoKo Steidle schrieb:\nSie spielen zusammen wie die Teufel und swingen wie Motherfucker.\n \n\n\nHenrik Walsdorff – alto saxophone\nRudi Mahall – bass clarinet\nJan Roder – bass\nOli Steidle – drums \nAlexander von Schlippebach will not be able to participate. \nInformation about prices\, ticket reservations and our opening times can be found here. \nA completely unique and timeless sound characterizes the SoKo Steidle. This band of four has turned completely to free improvisation\, a style of playing that arose out of a musical historical necessity and is now celebrated more than ever all over the world. \nhttp://oliversteidle.com/soko-steidle/ \nOliver Steidle – namesake of the quartet and winner of the 2022 German Jazz Award in the category „Drummer of the Year“ – has been one of the hottest\, most accomplished and forward-looking musicians of the young European avant-garde for quite some time. Through numerous\, prominent engagements and his own bands Oli Steidle & the killing Popes\, Oliwood and SoKo Steidle\, he has found his place in the international concert scene\, and it is impossible to imagine life there without him.\nHe has been a member of PHILM (German Jazz Award 2021 Band of the Year)\, Der Rote Bereich\, Klima Kalima \, played with Peter Brötzmann\, Andrea Parkins\, Alexander von Schlippenbach\, Aki Takase\, Louis Sclavis\, Tristan Honsinger\, Trevor Dunn\, and many others\, jets ceaselessly through the world\, writes music\, is undogmatic\, has won numerous prizes and played at all important\, noteworthy festivals.\nThe same goes for Rudi Mahall\, Henrik Walsdorff and Jan Roder\, who\, like Steidle\, are among the spearheads of the international avant-garde.\nHere\, in the collective of excellent musicians\, enormously versatile and atmospheric sound creations emerge\, ranging from rivalry to harmonious interplay. Spontaneity and freedom in playing and the necessary responsibility to create without guidelines are the important foundations for this music. Furthermore\, in addition to the dedication to the cause\, it requires the ability to find together\, i.e. to find an optimal combination of personnel in the ensemble. \nSo it is not surprising that Alexander von Schlippenbach once wrote about SoKo Steidle: They play together like devils and swing like motherfuckers.
URL:https://www.loftkoeln.de/event/soko-steidle-alexander-von-schlippenbach/
END:VEVENT
END:VCALENDAR