BEGIN:VCALENDAR
VERSION:2.0
PRODID:-//www.loftkoeln.de - ECPv5.14.2.1//NONSGML v1.0//EN
CALSCALE:GREGORIAN
METHOD:PUBLISH
X-WR-CALNAME:www.loftkoeln.de
X-ORIGINAL-URL:https://www.loftkoeln.de
X-WR-CALDESC:Veranstaltungen für www.loftkoeln.de
BEGIN:VTIMEZONE
TZID:UTC
BEGIN:STANDARD
TZOFFSETFROM:+0000
TZOFFSETTO:+0000
TZNAME:UTC
DTSTART:20130101T000000
END:STANDARD
END:VTIMEZONE
BEGIN:VEVENT
DTSTART;TZID=UTC:20131019T203000
DTEND;TZID=UTC:20131019T203000
DTSTAMP:20260422T112554
CREATED:20170405T112449Z
LAST-MODIFIED:20170405T112539Z
UID:4604-1382214600-1382214600@www.loftkoeln.de
SUMMARY:Simon Rose - Stefan Schultze Duo
DESCRIPTION:Stefan Schultze – prepared piano\nSimon Rose – baritone\, alto saxophone \n\nHier treffen zwei Künstler aufeinander\, die eins gemeinsam haben: den leidenschaftlichen Willen\, improvisierend bis in die Mikrobestandteile des Klangs vorzudringen und dabei ihre Instrumente fast physisch erfahrbar zu machen. Rose befreit seine Musik von allem Überflüssigen. Für ihn gilt allein die Sprache seines Instruments\, die fast urzeitlich anmutet und auf schiere freiliegende Emotion reduziert ist. Wie hochschießende Lava lässt der in Berlin lebende Brite seine Töne zerspratzen\, schraubt sie atemlos hoch bis in die heisersten Obertöne und gellendsten Schreie\, lässt sie klagen\, knurren\, fauchen\, blöken\, stottern und hämmern. Mit Stefan Schultze und seinem präparierten Klavier trifft Rose auf einen ebenso rastlosen Erforscher von Klangerzeugung. Nach dem WDR-Jazzpreis für Komposition vor zwei Jahren zieht es Schultze in die freie Improvisation\, um die Möglichkeiten seines Instruments zu erweitern und wie ein Alchimist mit Klang\, Ton und Geräusch experimentierend Neues zu entdecken. \nwww.simonrose.org \n www.stefanschultze.com
URL:https://www.loftkoeln.de/event/simon-rose-stefan-schultze-duo/
END:VEVENT
END:VCALENDAR