BEGIN:VCALENDAR
VERSION:2.0
PRODID:-//www.loftkoeln.de - ECPv5.14.2.1//NONSGML v1.0//EN
CALSCALE:GREGORIAN
METHOD:PUBLISH
X-WR-CALNAME:www.loftkoeln.de
X-ORIGINAL-URL:https://www.loftkoeln.de
X-WR-CALDESC:Veranstaltungen für www.loftkoeln.de
BEGIN:VTIMEZONE
TZID:UTC
BEGIN:STANDARD
TZOFFSETFROM:+0000
TZOFFSETTO:+0000
TZNAME:UTC
DTSTART:20180101T000000
END:STANDARD
END:VTIMEZONE
BEGIN:VEVENT
DTSTART;TZID=UTC:20180505T203000
DTEND;TZID=UTC:20180505T203000
DTSTAMP:20260424T104324
CREATED:20180401T085839Z
LAST-MODIFIED:20180413T072545Z
UID:7936-1525552200-1525552200@www.loftkoeln.de
SUMMARY:Simon Nabatov Piano Solo
DESCRIPTION:Simon Nabatov – Piano \n\n© Andrey Lysikov\nNach etlichen Jahren und zahlreichen Auftritten im LOFT – in diversen Besetzungen wie Duos mit Frank Gratkowski (CD: Mirthful Myths\, Gareth Lubbe (CD Lubatov)\, Oguz Buyukberber (CD Wobbly Strata)\, Trios mit vier verschiedenen Besetzungen im Jahr 2015 (CDs Picking Order und Situations erschienen\, weitere Veröffentlichung aus dem Projekt geplant)\, nicht zu vergessen die unzähligen Konzerte im LOFT als Gast – kehrt Simon Nabatov mit einem neuen Soloprogramm zurück. \nAnders als bei Simon Nabatovs Solo-Auftritten in der Vergangenheit werden an diesem Abend keine Stücke von Herbie Nichols oder Thelonious Monk interpretiert\, keine brasilianische Lieder umgedeutet: auf dem Programm stehen neue\, eigene Stücke und Improvisationen\, manche rein akustisch gespielt  andere mit live-Elektronik unterstützt.
URL:https://www.loftkoeln.de/event/simon-nabatov-piano-solo/
END:VEVENT
END:VCALENDAR