BEGIN:VCALENDAR
VERSION:2.0
PRODID:-//www.loftkoeln.de - ECPv5.14.2.1//NONSGML v1.0//EN
CALSCALE:GREGORIAN
METHOD:PUBLISH
X-WR-CALNAME:www.loftkoeln.de
X-ORIGINAL-URL:https://www.loftkoeln.de
X-WR-CALDESC:Veranstaltungen für www.loftkoeln.de
BEGIN:VTIMEZONE
TZID:Europe/Berlin
BEGIN:DAYLIGHT
TZOFFSETFROM:+0100
TZOFFSETTO:+0200
TZNAME:CEST
DTSTART:20260329T010000
END:DAYLIGHT
BEGIN:STANDARD
TZOFFSETFROM:+0200
TZOFFSETTO:+0100
TZNAME:CET
DTSTART:20261025T010000
END:STANDARD
END:VTIMEZONE
BEGIN:VEVENT
DTSTART;TZID=Europe/Berlin:20260428T200000
DTEND;TZID=Europe/Berlin:20260428T200000
DTSTAMP:20260421T112246
CREATED:20260304T132326Z
LAST-MODIFIED:20260306T093522Z
UID:32348-1777406400-1777406400@www.loftkoeln.de
SUMMARY:Simon Bremens Sound Explorer | live recording (project)
DESCRIPTION:  \n\nMerle Böwering – Stimme\nSimon Bremen – Altsaxophon & Komposition/Arrangement\nBen Jones – Sopran- & Tenorsaxophon\nAdrian Gallet – Tenorsaxophon\nLewin Losemann – Baritonsaxophon\nKorbinian Kugler – Bass\nNiklas Wittig – Schlagzeug \n\n\n(english: see below) \nWeitere Informationen zu den Preisen\, Karten-Reservierungen und den Öffnungszeiten finden Sie hier.\n\n\n\n\nSimon Bremen © Heike Ines\nDer Kompositionsprozess eines Stücks initiierte die Suche nach dieser außergewöhnlichen Besetzung: Das homogene Klangbild der vier Saxophone wird kontrastiert und ergänzt von einer reduzierten Rhythmusgruppe sowie einer Vokalstimme. Nur selten erklingen dabei jedoch harmonisierte Linien\, wie man sie von einem derartigen Saxophonsatz aus der Bigbandtradition heraus erwarten könnte. Vielmehr suche ich beim Schreiben neuer und Adaptieren bereits bestehender eigener Stücke nach neuen und manchmal unerwarteten Möglichkeiten\, die Klangfarben miteinander zu kombinieren. So treten von Zeit zu Zeit einzelne Instrumente in den Hintergrund\, während sich andere solistisch präsentieren oder aber die Band gibt sich als geschlossene Einheit\, die gemeinsam Melodien\, Voicings und Grooves erforscht. Freuen Sie sich auf ein abwechslungsreiches Klangerlebnis\, bei dem zu jedem Augenblick ein gewisser Anteil der Improvisation überlassen bleibt!\nDer live-Mitschnitt und die am Folgetag anschließenden Aufnahmen finden im Rahmen des LOFT- Wettbewerbs recording project 2025 statt\, welchen die Band vergangenes Jahr gewonnen hat. \nhttps://simonbremen.de/ \n\n\n\n\n\n\n\nMerle Böwering – voice\nSimon Bremen – alto saxophone & composition/arrangement\nBen Jones – soprano- & tenor saxophone\nAdrian Gallet – tenor saxophone\nLewin Losemann – bariton saxophone\nKorbinian Kugler – bass\nNiklas Wittig – drums\nFurther information about prices\, ticket reservations and our opening times can be found here.\n\n\nThe process of composing a piece initiated the search for this unusual instrumentation: the homogeneous sound of the four saxophones is contrasted and complemented by a reduced rhythm section and a vocal part. However\, harmonized lines\, as one might expect from such a saxophone section in the big band tradition\, are rarely heard. Instead\, when writing new pieces and adapting existing ones\, I look for new and sometimes unexpected ways to combine timbres. From time to time\, individual instruments fade into the background while others take center stage\, or the band presents itself as a cohesive unit exploring melodies\, voicings\, and grooves together. Look forward to a varied sound experience\, with a certain amount of improvisation left to chance at every moment! \nThe live recording and the recordings on the following day will take place as part of the LOFT competition recording project 2025\, which the band won last year.
URL:https://www.loftkoeln.de/event/simon-bremens-sound-explorer-live-recording-project/
END:VEVENT
END:VCALENDAR