BEGIN:VCALENDAR
VERSION:2.0
PRODID:-//www.loftkoeln.de - ECPv5.14.2.1//NONSGML v1.0//EN
CALSCALE:GREGORIAN
METHOD:PUBLISH
X-WR-CALNAME:www.loftkoeln.de
X-ORIGINAL-URL:https://www.loftkoeln.de
X-WR-CALDESC:Veranstaltungen für www.loftkoeln.de
BEGIN:VTIMEZONE
TZID:UTC
BEGIN:STANDARD
TZOFFSETFROM:+0000
TZOFFSETTO:+0000
TZNAME:UTC
DTSTART:20150101T000000
END:STANDARD
END:VTIMEZONE
BEGIN:VEVENT
DTSTART;TZID=UTC:20151210T203000
DTEND;TZID=UTC:20151210T203000
DTSTAMP:20260420T053834
CREATED:20170223T112443Z
LAST-MODIFIED:20170223T112443Z
UID:3916-1449779400-1449779400@www.loftkoeln.de
SUMMARY:SHOOTS & ROOTS
DESCRIPTION:Hindol Deb – sitar\, composition\nParas Nath – flute\nAmit Mishra – tabla \nGERMANY:\nSebastian Gramss – double bass\, composition\nMatthias Muche – trombone\nErwin Ditzner – drums + percussion \n\nTabla\, Sitar und Flöte – Posaune\, Kontrabass und Schlagzeug \n3 indische und 3 deutsche Musiker treffen sich in dem neuesten Projekt des Kölner Kontrabassisten und ECHO Preisträgers Sebastian Gramss. \nZusammen mit dem aus Delhi stammenden Sitar Virtuosen Hindol Deb haben die Beiden gemeinsam eine gleichermaßen anspruchsvolle und ansprechende Klangsprache entwickelt. Ohne die üblichen Weltmusik oder Fusion Klischees schaffen es die 6 Ausnahmemusiker\, klassische indische Musik und zeitgenössischen Musik/Jazz feinsinnig zu verknüpfen. Nach ausgiebiger Erforschung der unterschiedlichen musikalischen Wurzeln (Roots) und \neiner intensiven 2-jährigen Zusammenarbeit in Mumbai und Köln präsentiert das Doppeltrio die Früchte (Shoots) dieser Kooperation auf Konzerten in Indien im November und im Dezember In Deutschland.
URL:https://www.loftkoeln.de/event/shoots-roots/
END:VEVENT
END:VCALENDAR