BEGIN:VCALENDAR
VERSION:2.0
PRODID:-//www.loftkoeln.de - ECPv5.14.2.1//NONSGML v1.0//EN
CALSCALE:GREGORIAN
METHOD:PUBLISH
X-WR-CALNAME:www.loftkoeln.de
X-ORIGINAL-URL:https://www.loftkoeln.de
X-WR-CALDESC:Veranstaltungen für www.loftkoeln.de
BEGIN:VTIMEZONE
TZID:Europe/Berlin
BEGIN:DAYLIGHT
TZOFFSETFROM:+0100
TZOFFSETTO:+0200
TZNAME:CEST
DTSTART:20260329T010000
END:DAYLIGHT
BEGIN:STANDARD
TZOFFSETFROM:+0200
TZOFFSETTO:+0100
TZNAME:CET
DTSTART:20261025T010000
END:STANDARD
END:VTIMEZONE
BEGIN:VEVENT
DTSTART;TZID=Europe/Berlin:20260411T200000
DTEND;TZID=Europe/Berlin:20260411T200000
DTSTAMP:20260424T000548
CREATED:20260226T133856Z
LAST-MODIFIED:20260326T080352Z
UID:32248-1775937600-1775937600@www.loftkoeln.de
SUMMARY:SEGMENTA ANIMATA | live recording
DESCRIPTION:Clara Vetter – Piano\nHåvard Nordberg Funderud – Gitarre\nMario Angelov – Bass\nPetter Asbjørnsen – Bass\nFabian Arends – Schlagzeug \n\n(english: see below) \nWeitere Informationen zu den Preisen\, Karten-Reservierungen und den Öffnungszeiten finden Sie hier.\n\n\n\n\n\nSegmenta Animata © Max Treutner\nDer Zusammenschluss von Pianistin Clara Vetter\, Gitarrist Håvard Nordberg Funderud\, den beiden Bassisten Mario Angelov und Petter Asbjørnsen sowie dem Schlagzeuger Fabian Arends entwächst einem Rechercheprojekt über die Tierkreis-Kompositionen von Karlheinz Stockhausen – ein Werk\, dass alle Bandmitglieder schon lange begleitet. Beispielsweise nutzte Clara Vetter die Musik als Inspirationsquelle für die Eigenkompositionen ihres Albums Fabulae\, in welchem sie in einem individuellen Kompositionsansatz Sternbilder in Stücke übersetzte. Aus dieser Arbeit entsprang ihre Idee\, ihr Trio und die Band Letters From Nowhere in einem kollaborativen Projekt zu vereinen\, dass sich mit Stockhausens Werk auseinandersetzt. Nach genauer Analyse und Kontextualisierung wird die Musik in die eigene Spielweise übertragen. Wahrgenommene Strukturen werden neu interpretiert\, re-komponiert\, als Improvisationsgrundlage genutzt und zu einem individuellen Klangbild zusammengefügt. \nhttps://www.clara-vetter.de/ \n\nhttps://www.fabianarends.com/\n\n\n\nClara Vetter – piano\nHåvard Nordberg Funderud – guitar\nMario Angelov – bass\nPetter Asbjørnsen – bass\nFabian Arends – drums \n\nFurther information about prices\, ticket reservations and our opening times can be found here.\n\n\nThe collaboration between pianist Clara Vetter\, guitarist Håvard Nordberg Funderud\, bassists Mario Angelov and Petter Asbjørnsen\, and drummer Fabian Arends originates from a research project on Stockhausen’s Tierkreis compositions – a body of work that has accompanied all the band members for a long time. For instance\, Clara Vetter used this music as a source of inspiration for her album Fabulae\, in which she translated constellations into compositions using an individual compositional approach. This work sparked the idea to merge her trio and the band Letters From Nowhere into a collaborative project that engages with Stockhausen’s work. After careful analysis and contextualization\, the music is translated into their own musical language. Perceived structures are reinterpreted\, recomposed\, used as a basis for improvisation\, and woven together into a unique sonic identity.
URL:https://www.loftkoeln.de/event/segmenta-animata-live-recording/
END:VEVENT
END:VCALENDAR