BEGIN:VCALENDAR
VERSION:2.0
PRODID:-//www.loftkoeln.de - ECPv5.14.2.1//NONSGML v1.0//EN
CALSCALE:GREGORIAN
METHOD:PUBLISH
X-WR-CALNAME:www.loftkoeln.de
X-ORIGINAL-URL:https://www.loftkoeln.de
X-WR-CALDESC:Veranstaltungen für www.loftkoeln.de
BEGIN:VTIMEZONE
TZID:UTC
BEGIN:STANDARD
TZOFFSETFROM:+0000
TZOFFSETTO:+0000
TZNAME:UTC
DTSTART:20130101T000000
END:STANDARD
END:VTIMEZONE
BEGIN:VEVENT
DTSTART;TZID=UTC:20130918T203000
DTEND;TZID=UTC:20130918T203000
DTSTAMP:20260425T140918
CREATED:20170420T102320Z
LAST-MODIFIED:20170420T102320Z
UID:4733-1379536200-1379536200@www.loftkoeln.de
SUMMARY:Sebastian Degen Q5
DESCRIPTION:Sebastian Degen – ts.\,ss.\n Tim Hepburn – trb.\n Simon Seidl – piano\, Klavier\n Hendrika Entzian – bass.\nThomas Sauerborn – drums \n\n„Traditionsverbunden – Modern – Eigen.“ Das Quintett um den Saxophonisten Sebastian Degen zeigt\, dass es ein solches Prädikat verdient. Selbstbewusst und losgelöst von einengenden Konventionen bleiben die musikalischen Einflüsse der Musiker ausgehend vom Blues bis hin zu freien Interpretationen keineswegs im Verborgenen. Durch elegante und sinnvolle Verknüpfungen mit zeitgenössischen Klangwelten gelingt es der Formation aus Köln eine eigene und unverkennbare musikalische Ausdrucksweisem zu entwickeln ohne dabei Gefahr zu laufen\, in einen farblosen Stilmix zu geraten. Dabei sucht und findet die Band Möglichkeiten bisweilen starre Schemata außer Kraft zu setzen. Die Musik aus der Feder des Bandleaders zeigt sich vielschichtig\, kontrastreich aber ebenso stimmig und homogen\, sie bedient sich einer modernen Klangsprache ohne den Kontakt zur Tradition des Jazz missen zu lassen. Die dadurch entstehende Spannkraft zwischen Struktur und Offenheit\, detailverliebter Komposition und kollektiver Improvisation ist das wesentliche Element dieses modernen Klangkörpers\, der es sich zum Ziel gesetzt hat die Sinne des Zuhörers auf intellektuelle aber auch emotionale Weise anzusprechen. Im Grunde ist es die pure Spielfreude an hausgemachter Jazzmusik\, wodurch die fünf jungen Musiker angetrieben werden\, frisch und unbefangen unterschiedlichste musikalische Strömungen zu einem harmonischen Ganzen einen.
URL:https://www.loftkoeln.de/event/sebastian-degen-q5/
END:VEVENT
END:VCALENDAR