BEGIN:VCALENDAR
VERSION:2.0
PRODID:-//www.loftkoeln.de - ECPv5.14.2.1//NONSGML v1.0//EN
CALSCALE:GREGORIAN
METHOD:PUBLISH
X-WR-CALNAME:www.loftkoeln.de
X-ORIGINAL-URL:https://www.loftkoeln.de
X-WR-CALDESC:Veranstaltungen für www.loftkoeln.de
BEGIN:VTIMEZONE
TZID:Europe/Berlin
BEGIN:DAYLIGHT
TZOFFSETFROM:+0100
TZOFFSETTO:+0200
TZNAME:CEST
DTSTART:20230326T010000
END:DAYLIGHT
BEGIN:STANDARD
TZOFFSETFROM:+0200
TZOFFSETTO:+0100
TZNAME:CET
DTSTART:20231029T010000
END:STANDARD
END:VTIMEZONE
BEGIN:VEVENT
DTSTART;TZID=Europe/Berlin:20230106T203000
DTEND;TZID=Europe/Berlin:20230106T203000
DTSTAMP:20260424T121746
CREATED:20221127T112332Z
LAST-MODIFIED:20221229T125129Z
UID:22417-1673037000-1673037000@www.loftkoeln.de
SUMMARY:Sean Payne Quartet | live recording
DESCRIPTION:Sean Payne – Saxophon \nRainer Böhm – Piano \nMatthias Pichler – Bass \nKai Craig – Schlagzeug \n\n(english: see below) \nInformationen zu den Preisen\, Karten-Reservierungen und den Öffnungszeiten finden Sie hier.\n\nDas Konzert dieses brandneuen Quartetts präsentiert Sean Paynes Kompositionen\, die auch auf dem parallel-enstehenden Debütalbum zu hören sein werden.\nNeben starken Einflüssen von Kenny Kirkland und Michael Brecker kommt in dieser Musik auch Seans eigene Stimme als Saxophonist und Komponist zum Tragen.\nNachdem er vor über drei Jahren mit der Arbeit an diesem speziellen Material begonnen hat\, war ein großer Teil der Entwicklung die enge musikalische Beziehung\, zu dem Schlagzeuger Kai Craig.  Die Art und Weise\, wie sie zusammen spielen\, dient als Fundament für diese Band.\nWährend seiner Zeit in Köln hatte Sean die Gelegenheit\, mit dem herausragenden Pianisten Rainer Böhm zu spielen\, und nachdem er einige Stücke mit ihm angspielt hatte stand fest\, dass er Bestandteil der Band sein muss. Das letzte Mitglied des Quartetts ist Matthias Pichler\, Bassist mit Weltformat: nachdem Sean ihn auf Rainers wärmste Empfehlung hin im Jahr 2022 im LOFT live spielen hörte war Sean überzeugt\, dass er die perfekte Ergänzung für die Band sein würde. \n\nhttps://www.seanpaynemusic.com/ \nhttp://rainerboehm.de/ \nhttps://matthiaspichlermusic.com/ \nhttps://kaicraig.com/ \n\n\nSean Payne – saxophone\nRainer Böhm – piano\nMatthias Pichler – bass\nKai Craig – drums  \nInformation about prices\, ticket reservationsand our opening times can be found here.\nWith a Brand New Quartet\, this Concert will feature Sean’s Original Tunes that will comprise his debut recording.\nAmongst strong influences from the likes of Kenny Kirkland and Michael Brecker\, Sean’s own voice as a Saxophonist and Composer comes through heavily in this music. Having started working on this particular material over 3 years ago\, a huge part of it’s evolution has been the intimate musical relationship Sean and Kai Craig have developed.\nThey way in which they play together\, serves as a foundation for this band.\nWhilst living in Köln\, Sean had the opportunity to play with the outstanding Pianist Rainer Böhm and after playing these tunes with him\, he was a clear choice to feature in this band. The final member of the Quartet\, Matthias Pichler is truly one of the best Bassists around anywhere in the world. \nAfter hearing him perform live at LOFT in 2022 (along with Rainer’s strong recommendation)\, Sean was convinced he would be the perfect match for the band. \nSean is a fantastic player and has great ears; and he can swing!\nSusan Brecker
URL:https://www.loftkoeln.de/event/sean-payne-quartet/
END:VEVENT
END:VCALENDAR