BEGIN:VCALENDAR
VERSION:2.0
PRODID:-//www.loftkoeln.de - ECPv5.14.2.1//NONSGML v1.0//EN
CALSCALE:GREGORIAN
METHOD:PUBLISH
X-WR-CALNAME:www.loftkoeln.de
X-ORIGINAL-URL:https://www.loftkoeln.de
X-WR-CALDESC:Veranstaltungen für www.loftkoeln.de
BEGIN:VTIMEZONE
TZID:UTC
BEGIN:STANDARD
TZOFFSETFROM:+0000
TZOFFSETTO:+0000
TZNAME:UTC
DTSTART:20150101T000000
END:STANDARD
END:VTIMEZONE
BEGIN:VEVENT
DTSTART;TZID=UTC:20151101T203000
DTEND;TZID=UTC:20151101T203000
DTSTAMP:20260421T110635
CREATED:20170301T132752Z
LAST-MODIFIED:20170301T132752Z
UID:3976-1446409800-1446409800@www.loftkoeln.de
SUMMARY:Scott Fields String Feartet
DESCRIPTION:Axel Lindner – violin\nRadek Stawarz – viola\nElisabeth Fügemann – cello\nScott Fields – electric guitar \n\nDas String Feartet musiziert sowohl frei wie in vorgegebenen Strukturen\, wobei unterschieden werden muss zwischen komplett komponierten Teilen und Teilen\, wo die Komposition eher eine harmonisch oder motivisch gelenkte Improvisation darstellt\, wo also keine konkrete Tonfolgen vorgegeben sind. Dabei bewegen sich die Musiker jedoch immer wieder zwischen Komposition und Improvisation hin und her\, meist so fließend\, dass der Unterschied nur schwer zu erkennen ist. Loops die sich ausdehnen und wieder zusammenfinden\, halten sowohl die Musiker wie auch die Zuhörer auf Trab. \nCDs Mostly Stick (Between the Lines\, 2014) Haydn (Between the Lines\, 2014) \nKintsugi Between the Lines\, 2013) \nwww.scottfields.com \nwww.betweenthelines.de \nhttp://scottfields.com/feartet.html
URL:https://www.loftkoeln.de/event/scott-fields-string-feartet/
END:VEVENT
END:VCALENDAR