BEGIN:VCALENDAR
VERSION:2.0
PRODID:-//www.loftkoeln.de - ECPv5.14.2.1//NONSGML v1.0//EN
CALSCALE:GREGORIAN
METHOD:PUBLISH
X-WR-CALNAME:www.loftkoeln.de
X-ORIGINAL-URL:https://www.loftkoeln.de
X-WR-CALDESC:Veranstaltungen für www.loftkoeln.de
BEGIN:VTIMEZONE
TZID:UTC
BEGIN:STANDARD
TZOFFSETFROM:+0000
TZOFFSETTO:+0000
TZNAME:UTC
DTSTART:20150101T000000
END:STANDARD
END:VTIMEZONE
BEGIN:VEVENT
DTSTART;TZID=UTC:20151201T203000
DTEND;TZID=UTC:20151201T203000
DTSTAMP:20260422T142944
CREATED:20170223T111245Z
LAST-MODIFIED:20170223T111245Z
UID:3908-1449001800-1449001800@www.loftkoeln.de
SUMMARY:Scott Fields Freetet
DESCRIPTION:Constantin Herzog – contrabass\nDrori Mondlak – drums\nScott Fields – electric guitar \n\nDas Scott Fields Freetet ist durch die klassischen Free-Jazz-Ensembles der 60-er Jahre inspiriert\, operiert jedoch mit einer eigenen Variation. Wie Ornette Coleman’s jazzige\, aber akkordfreie Trios und Quartette der 1960er Jahre\, arbeitet das Freetet innerhalb einer Thema-Solo-Interlude-Solo-Thema Struktur. Die Variation liegt im Themenmaterial selbst. Während im klassischen Free Jazz normalerweise der 4/4 Takt oder Jazzwalzer vorherrscht\, sind die Themen des Freetet’s übervoll mit komplex verschobenen und zusammengesetzten Taktarten\, wobei zusätzlich noch hier und da Beats eingefügt oder ausgelassen werden\, was der Musik einen zuweilen seltsam eckigen Charakter verleiht\, ohne jedoch den Jazzfeel und Drive einzubüßen. Das Ergebnis ist ein extrem engagierter\, impulsiver und zuweilen exzentrischer Free Jazz. \nCD – Bitter Love Songs (Clean Feed\, 2008) \nwww.scottfields.com \nwww.cleanfeed-records.com
URL:https://www.loftkoeln.de/event/scott-fields-freetet/
END:VEVENT
END:VCALENDAR