BEGIN:VCALENDAR
VERSION:2.0
PRODID:-//www.loftkoeln.de - ECPv5.14.2.1//NONSGML v1.0//EN
CALSCALE:GREGORIAN
METHOD:PUBLISH
X-WR-CALNAME:www.loftkoeln.de
X-ORIGINAL-URL:https://www.loftkoeln.de
X-WR-CALDESC:Veranstaltungen für www.loftkoeln.de
BEGIN:VTIMEZONE
TZID:UTC
BEGIN:STANDARD
TZOFFSETFROM:+0000
TZOFFSETTO:+0000
TZNAME:UTC
DTSTART:20180101T000000
END:STANDARD
END:VTIMEZONE
BEGIN:VEVENT
DTSTART;TZID=UTC:20181117T203000
DTEND;TZID=UTC:20181117T203000
DTSTAMP:20260424T130829
CREATED:20180903T134602Z
LAST-MODIFIED:20180903T135520Z
UID:9515-1542486600-1542486600@www.loftkoeln.de
SUMMARY:Schultze Ehwald Rainey
DESCRIPTION:Peter Ehwald – Saxophon\nStefan Schultze – Piano\nTom Rainey – Schlagzeug \n\nSchultze Ehwald Rainey live @ 10 Jahre Jazzwerkstatt:\nhttps://www.youtube.com/watch?v=lpFBblmqhHg\n\nPRESSE: Schultze Ehwald Rainey / Behind Her Eyes – Release \nSchultze and Ehwald both relish exploring the melodic contours of the pieces\, which are often reflective\, even dreamy\, while Rainey’s cymbal color play remains the epitome of sensitivity.\nJohn Sharpe\, The New York City Jazz Record\, 2017\n \n„Für mich mit die spannendste Jazz-CD des Jahres!“\nHIFI Stars\, 2017 :: Schultze Ehwald Rainey (Behind Her Eyes\, 2017) \n„Dieses Hörvergnügen ist komplex\, unberechenbar\, gerne auch tiefschürfend. Aber die Erfahrung\, die dahinter steht\, hat Vorbildcharakter!\nStefan Pieper\, Jazzzeitung\, July 2017 :: Schultze Ehwald Rainey (Behind Her Eyes\, 2017) \nAus der Spannung zwischen den drei Individuen\, aus der Verschiedenartigkeit der musikalischen Wege\, die zum gemeinsamen Ziel führen\, resultiert der Reiz dieser äußerst emotionalen Musik. \nRainer Bratfisch\, Jazzpodium\, 09/2017 :: Schultze Ehwald Rainey (Behind Her Eyes\, 2017) \nGroße Kompetenz in der Verschränkung von Zielführendem mit Flexibilität\, Behutsamkeit mit Konsequenz und Ausformuliertem mit ad hoc – Situationen wird freigiebig an den Tag gelegt. For The Ears.\nConcerto\, 2017 :: Schultze Ehwald Rainey (Behind Her Eyes\, 2017) \nwww.stefanschultze.com\nwww.peter-ehwald.net \n\nPeter Ehwald und Stefan Schultze\, inzwischen Träger prominenter Musikpreise\, kennen sich seit bald zwanzig Jahren\, seit ihrer Zeit der Aufnahmeprüfung fürs Musikstudium. Vielfache gemeinsame Projekte haben sie miteinander realisiert\, sind sich gegenseitig entscheidende Inspirationsquellen und Kritiker geworden. Den Schlagzeugstar der New Yorker Downtown Szene\, Tom Rainey\, bewundern beide schon seit langem. Es gibt nicht viele Schlagzeuger\, mit denen das Wunder vollendeter offener Triomusik derartig überzeugend gelingen kann wie mit dem 60jähigen Amerikaner\, der mit Musikern wie Kenny Werner\, Fred Hersch und Tim Berne zusammengearbeitet hat. Rainey ist eine der wichtigsten Stimmen im modernen Jazz\, ein begnadeter Klangrhythmiker und Klangmelodiker\, ein Meister des subtile Strukturen generierenden Ex-tempore-Komponierens. Er ist Katalysator und doch gleichzeitig existenziell Beteiligter. In seinem Umfeld vollzieht sich offenes Triospiel immer wieder als intensives Duo-Musizieren mehrerer Beteiligter gleichzeitig; quasi analog zum chemischen Paradigma ringförmig wechselnder Valenzen interagiert jeweils duogemäß jeder mit jedem und das mit einer fast asketisch konzentrierten Kultur des Zuhörens. Statt Powerplay-Einheitsbrei entstehen so abwechslungsreiche\, beglückende Begegnungs- Miniaturen – vor allem dann\, wenn sich die Beteiligten wie bei diesem Treffen auf eine Balance von auskomponierten und freien offenen Formen verständigen. \nAuf der auf Jazzwerkstatt Berlin erschienenen CD „Behind her Eyes“ (aufgenommen im Berliner Studio P4\, gemastered vom LOFT-Maître Christian Heck) entwickelt das Trio in einem virtuosen\, melodischen Austausch neue Räume\, in denen die Klänge\, traumwandlerisch schweben und trotzdem energisch pulsieren.
URL:https://www.loftkoeln.de/event/schultze-ehwald-rainey-2/
END:VEVENT
END:VCALENDAR