BEGIN:VCALENDAR
VERSION:2.0
PRODID:-//www.loftkoeln.de - ECPv5.14.2.1//NONSGML v1.0//EN
CALSCALE:GREGORIAN
METHOD:PUBLISH
X-WR-CALNAME:www.loftkoeln.de
X-ORIGINAL-URL:https://www.loftkoeln.de
X-WR-CALDESC:Veranstaltungen für www.loftkoeln.de
BEGIN:VTIMEZONE
TZID:UTC
BEGIN:STANDARD
TZOFFSETFROM:+0000
TZOFFSETTO:+0000
TZNAME:UTC
DTSTART:20120101T000000
END:STANDARD
END:VTIMEZONE
BEGIN:VEVENT
DTSTART;TZID=UTC:20121002T203000
DTEND;TZID=UTC:20121002T203000
DTSTAMP:20260424T191625
CREATED:20171011T062207Z
LAST-MODIFIED:20171011T062207Z
UID:5496-1349209800-1349209800@www.loftkoeln.de
SUMMARY:Schultze - Ehwald Duo
DESCRIPTION:Stefan Schultze – piano\, comp\nPeter Ehwald – sax\, comp  \n\nAuf beiden Seiten des Atlantiks haben Peter Ehwald und Stefan Schultze (Preisträger des WDR-Jazzpreis 2010) schon gemeinsam mit großem Erfolg musiziert. Sie studierten sowohl an renommierten Hochschulen in Deutschland als auch in New York City und haben mit ihrer gemeinsamen Band „schultzing“ schon mehrere nationale und internationale Preise gewonnen.\nFür beide gehört die Berührung von Jazz und Klassik/Moderne zum Alltag ihres Musizierens. Der WDR-Preisträger Stefan Schultze und Peter Ehwald verstehen es\, aus den sonst gespalteten Welten der E- und U-Musik\, ein Duo im besten Sinne des Wortes zu kreieren!
URL:https://www.loftkoeln.de/event/schultze-ehwald-duo/
END:VEVENT
END:VCALENDAR