BEGIN:VCALENDAR
VERSION:2.0
PRODID:-//www.loftkoeln.de - ECPv5.14.2.1//NONSGML v1.0//EN
CALSCALE:GREGORIAN
METHOD:PUBLISH
X-WR-CALNAME:www.loftkoeln.de
X-ORIGINAL-URL:https://www.loftkoeln.de
X-WR-CALDESC:Veranstaltungen für www.loftkoeln.de
BEGIN:VTIMEZONE
TZID:Europe/Berlin
BEGIN:DAYLIGHT
TZOFFSETFROM:+0100
TZOFFSETTO:+0200
TZNAME:CEST
DTSTART:20220327T010000
END:DAYLIGHT
BEGIN:STANDARD
TZOFFSETFROM:+0200
TZOFFSETTO:+0100
TZNAME:CET
DTSTART:20221030T010000
END:STANDARD
END:VTIMEZONE
BEGIN:VEVENT
DTSTART;TZID=Europe/Berlin:20220426T203000
DTEND;TZID=Europe/Berlin:20220426T203000
DTSTAMP:20260423T143245
CREATED:20220305T130232Z
LAST-MODIFIED:20220412T171424Z
UID:19727-1651005000-1651005000@www.loftkoeln.de
SUMMARY:Schubert Nabatov Duo | live recording
DESCRIPTION:Matthias Schubert – Saxophon\nSimon Nabatov – Piano\, Elektronik\n \n\n(english: see below) \nDas Konzert wird vor Publikum stattfinden\, weitere Informationen zu Konzerten während der Corona-Pandemie finden Sie hier\, Informationen zu den Preisen\, Karten-Reservierungen und den Öffnungszeiten hier.\nDie beiden Musiker haben sich 1987 dank des gemeinsamen Freundes und Schlagzeugers Ernst Bier in New York kennengelernt\, viel gejammt\, sich musikalisch ausgetauscht und eine gemeinsame Sprache und ein Verständnis füreinander entwickelt\, welches bis heute gilt.\nSeit Nabatov 1989 nach Köln kam\, haben sie immer wieder gemeinsame Bands und Projekte ins Leben gerufen. Das Matthias Schubert Quartett (mit Lindsey Horner am Bass und Tom Rainey am Schlagzeug) hat intensiv konzertiert und drei CDs veröffentlicht („For Thieves and Lovers“ 1992\, „Blue and Grey Suite“ 1995 und „Momentum“ 2000). Parallel dazu entstand das Duo Schubert/Nabatov\, mit zahlreichen Auftritten und der 2013 veröffentlichten CD „Descriptions“. Matthias Schubert ist unter anderem auf Nabatovs Quintett-CD „Roundtrip“ oder der Septett-Aufnahme „Time Labyrinth“ zu hören\, sowie im Kollektiv-Trio „Square Down“ mit Ernst Reijseger. \nSeitdem das Duo wieder aktiv ist\, hat es zwei Bandcamp Veröffentlichungen publiziert – Fragment (2020\, Live-Mitschnitt aus dem LOFT) und Old Sins (2021\, auf abenteuerliche Weise wiedergefundene Aufnahme aus dem Jahr 1993)\, beide auf https://simonnabatov.bandcamp.com/ zu hören. \nIm Jahr 2022 erhielt das Duo ein dreimonatiges Ensemble Stipendium des Musikfonds e.V.\, und nutzte es\, um komplett neues Programm zu schreiben\, proben\, aufnehmen und konzertant zu präsentieren. \nGefördert von: \n          \n\nMatthias Schubert – saxophone\nSimon Nabatov – piano\, electronic\n \nPlease read our infos concerning concerts with an audience during the Corona pandemic here. Information about prices\, ticket reservations and our opening times can be found here. \n\nThe two musicians met in New York in 1987 thanks to their mutual friend and drummer Ernst Bier\, jammed a lot\, exchanged musical ideas and developed a common language and understanding for each other that still holds true today.\nSince Nabatov came to Cologne in 1989\, they have repeatedly launched joint bands and projects. The Matthias Schubert Quartet (with Lindsey Horner on bass and Tom Rainey on drums) has performed extensively and released three CDs („For Thieves and Lovers“ 1992\, „Blue and Grey Suite“ 1995 and „Momentum“ 2000). Parallel to this\, the Schubert/Nabatov duo was formed\, with numerous performances and the CD „Descriptions“ released in 2013. Matthias Schubert can be heard on Nabatov’s quintet CD „Roundtrip“ or the septet recording „Time Labyrinth“\, among others\, as well as in the collective trio „Square Down“ with Ernst Reijseger. \nSince becoming active again\, the duo has published two Bandcamp releases – Fragment (2020\, live recording from LOFT) and Old Sins (2021\, adventurously recovered recording from 1993)\, both available at https://simonnabatov.bandcamp.com/. \nIn 2022\, the duo received a three-month ensemble grant from the Musikfonds e.V. and used it to write\, rehearse\, record and present a completely new programme in concert.
URL:https://www.loftkoeln.de/event/schubert-nabatov-duo-live-recording/
END:VEVENT
END:VCALENDAR