BEGIN:VCALENDAR
VERSION:2.0
PRODID:-//www.loftkoeln.de - ECPv5.14.2.1//NONSGML v1.0//EN
CALSCALE:GREGORIAN
METHOD:PUBLISH
X-WR-CALNAME:www.loftkoeln.de
X-ORIGINAL-URL:https://www.loftkoeln.de
X-WR-CALDESC:Veranstaltungen für www.loftkoeln.de
BEGIN:VTIMEZONE
TZID:UTC
BEGIN:STANDARD
TZOFFSETFROM:+0000
TZOFFSETTO:+0000
TZNAME:UTC
DTSTART:20090101T000000
END:STANDARD
END:VTIMEZONE
BEGIN:VEVENT
DTSTART;TZID=UTC:20091121T203000
DTEND;TZID=UTC:20091121T203000
DTSTAMP:20260423T043042
CREATED:20171031T102756Z
LAST-MODIFIED:20171031T102756Z
UID:6247-1258835400-1258835400@www.loftkoeln.de
SUMMARY:Schneeweiss und Rosenrot
DESCRIPTION:Lucia Cadotsch – Gesang\nJohanna Borchert – piano\nPetter Eldh – bass\nMarc Lohr – drums\, elect. \n\nDie Newcomer-Formation Schneeweiss und Rosenrot gibt einen faszinierenden Einblick in das Schaffen vier junger JazzmusikerInnen. Grenzauslotend bewegt sich die international besetzte Band aus der Schweiz\, Deutschland\, Schweden und Luxemburg zwischen Jazz Pop und Avantgarde. Die Kompositionen von Schneeweiss und Rosenrot bündeln alle Facetten der vielseitigen Musiker. Das Ensemble versteht es\, Text und Musik vielschichtig und sensibel zusammenzuführen und dabei das traditionelle Songformat zu sprengen. märchenhaft- verspielte Rhythmen\, oft ergänzt durch intensive\, dynamische Einsätze und Improvisationen\, ziehen das Publikum vom ersten Moment an in ihren Bann. Die ausdrucksvolle und klare Stimme von Lucia Cadotsch geht unter die Haut während Johanna Borchert am Klavier zwischen Nachdenklichkeit und Tastenattacke wechselt. Elektronisch verfremdete Klaviertöne erweitern das gewohnte Klangspektrum des Flügels\, während das virtuose\, rhythmische Spiel des Bassisten Petter Eldh und Marc Lohrs energiegeladenes Schlagzeug die breite Soundpallete der Band vervollständigen.
URL:https://www.loftkoeln.de/event/schneeweiss-und-rosenrot/
END:VEVENT
END:VCALENDAR