BEGIN:VCALENDAR
VERSION:2.0
PRODID:-//www.loftkoeln.de - ECPv5.14.2.1//NONSGML v1.0//EN
CALSCALE:GREGORIAN
METHOD:PUBLISH
X-WR-CALNAME:www.loftkoeln.de
X-ORIGINAL-URL:https://www.loftkoeln.de
X-WR-CALDESC:Veranstaltungen für www.loftkoeln.de
BEGIN:VTIMEZONE
TZID:UTC
BEGIN:STANDARD
TZOFFSETFROM:+0000
TZOFFSETTO:+0000
TZNAME:UTC
DTSTART:20180101T000000
END:STANDARD
END:VTIMEZONE
BEGIN:VEVENT
DTSTART;TZID=UTC:20180502T203000
DTEND;TZID=UTC:20180502T203000
DTSTAMP:20260424T122100
CREATED:20180404T054702Z
LAST-MODIFIED:20180404T055008Z
UID:8022-1525293000-1525293000@www.loftkoeln.de
SUMMARY:Schipmann / Ludwig UK Quintet
DESCRIPTION:Gero Schipmann – Gitarre\nJohannes Ludwig – Saxophon\nSam Leak – Piano\nMax Luthert III – Bass\nDominik Raab – Schlagzeug \n\n \nDer ursprünglich aus Köln stammende Gitarrist Gero Schipmann ist seit einigen Jahren festes und aktives Mitglied der Londoner Jazzszene. 2017 lud er erstmal seinen Musikerkollegen Johannes Ludwig (Altsaxophon) aus Köln nach England ein\, um dort mit einigen der gefragtesten Jazzmusiker des  Vereinigten Königreichs eine Reihe von Konzerten zu spielen. Kompositionen und Spielweisen der beiden Bandleader ergänzten sich von Anfang an einzigartig mit der musikalischen Interpretation ihrer englischen Kollegen\, die\, zugleich virtuos als auch stets der Musik dienlich\, immer nach der perfekten Balance aus Individualität und Hingabe zum ästhetischen Ganzen strebt. \nSam Leak ist in England schon seit längerem ein aufstrebender Star\, Max Luthert ist einer der meistbeschäftigten Bassisten der Londoner Szene. \nDas daraus hervorgegangene Schipmann/Ludwig UK Quintet verbindet weitläufige Klanglandschaften mit kristallklaren Linien\, Komplexit ät mit simpler Melodie und bewahrt dabei immer einen Sinn für die Tradition des Jazz und die Kunst erzählerischer Improvisation und Komposition. \nwww.samleak.com \ngeroschipmann.com \nwww.johannesludwig.com \nwww.dominikraab.net \n 
URL:https://www.loftkoeln.de/event/schipmann-ludwig-uk-quintet/
END:VEVENT
END:VCALENDAR