BEGIN:VCALENDAR
VERSION:2.0
PRODID:-//www.loftkoeln.de - ECPv5.14.2.1//NONSGML v1.0//EN
CALSCALE:GREGORIAN
METHOD:PUBLISH
X-WR-CALNAME:www.loftkoeln.de
X-ORIGINAL-URL:https://www.loftkoeln.de
X-WR-CALDESC:Veranstaltungen für www.loftkoeln.de
BEGIN:VTIMEZONE
TZID:Europe/Berlin
BEGIN:DAYLIGHT
TZOFFSETFROM:+0100
TZOFFSETTO:+0200
TZNAME:CEST
DTSTART:20030330T010000
END:DAYLIGHT
BEGIN:STANDARD
TZOFFSETFROM:+0200
TZOFFSETTO:+0100
TZNAME:CET
DTSTART:20031026T010000
END:STANDARD
END:VTIMEZONE
BEGIN:VEVENT
DTSTART;TZID=Europe/Berlin:20030528T203000
DTEND;TZID=Europe/Berlin:20030528T203000
DTSTAMP:20260422T194329
CREATED:20240305T161851Z
LAST-MODIFIED:20240305T161851Z
UID:26444-1054153800-1054153800@www.loftkoeln.de
SUMMARY:SCHiiiiK
DESCRIPTION:Michael Thieke – altcl.\, cl.\, as.\nStephan Meinberg – trp.\nRalph Beerkircher – git.\nChristian Thomé – drums \n\n4i-vantgarde: irre\, innig\, inkonsequent\, informativ.\nMusik für Klarinette\, Elektro-Gitarre\, Schlagzeug\, Trompete.\nKein Verzicht auf elektronische Zutaten.\nFeinstes (Aus-) Balancieren räudiger Klänge\, detailliert\ngeplant und aus dem Moment heraus. \nSpannende Unterhaltung mit:\nMichael Thieke Altklarinette\, Klarinette\, Altsaxophon lebt in Berlin; spielte mit Jim Black\, Steve Lacy\, Gary Peacock\, Herb Robertson\, u.a.; Zeichnet mitverantwortlich für die Gruppe „Nickendes Perlgras“ (CD JHM 105)\, für das Klarinetten-Trio „Hotz/Mahall/Thieke“ sowie für die Mingus-Stücke spielende Band „Doc Wallach“. \nStephan Meinberg – Trompete lebt in Köln; spielte u.a. mit David Liebman\, Charlie Mariano\, Peter Herborn „Large“ (feat. Gary Thomas \, Greg Osby \, Robin Eubanks\, Uri Caine\, etc.)\, Matthias Schubert\, Henning Berg\, Ramesh Shotham\,Nils Wogram\, Claudio Puntin. Projekte u.a. „Heelium“\, „Mold“\, „Stephan Meinberg ViTAMiNE“\, diverse CDs. \nRalph Beerkircher – Elektrogitarre lebt in Köln; spielte u.a. mit Gerry Hemingway\, Steven Bernstein\, Nils Wogram\, Moritz Eggert . Leitet sein eigenesQuartett (featuring Claudius Valk\, Volker Heinze\, Roland Höppner/CD nrwjazz 9009)\, ist Mitglied der Band „Novotnik 44“ (CD z.o.o.32-1/nrw) und arbeitet im Duo sowohl mit dem PianistenPeter Fulda als auch unter dem Namen „Shraeng“ mit dem Gitarristen FrankWingold. \nChristian Thomé Schlagzeug lebt in Köln; er spielte u.a. mit Dieter Manderscheid\, Peter Kowald\, John Goldsby\, Georg Ruby\, Michiel Braam\, Achim Kaufmann\, Michael Moore\, Markus Stockhausen. Er arbeitet u.a. mit seiner eigenen Band „tomatic 7“ (CD JHM 101)\, der Popband „Lühning“ und im Duo mit der Sängerin Céline Rudolph.
URL:https://www.loftkoeln.de/event/schiiiik/
END:VEVENT
END:VCALENDAR