BEGIN:VCALENDAR
VERSION:2.0
PRODID:-//www.loftkoeln.de - ECPv5.14.2.1//NONSGML v1.0//EN
CALSCALE:GREGORIAN
METHOD:PUBLISH
X-WR-CALNAME:www.loftkoeln.de
X-ORIGINAL-URL:https://www.loftkoeln.de
X-WR-CALDESC:Veranstaltungen für www.loftkoeln.de
BEGIN:VTIMEZONE
TZID:UTC
BEGIN:STANDARD
TZOFFSETFROM:+0000
TZOFFSETTO:+0000
TZNAME:UTC
DTSTART:20100101T000000
END:STANDARD
END:VTIMEZONE
BEGIN:VEVENT
DTSTART;TZID=UTC:20100921T203000
DTEND;TZID=UTC:20100921T203000
DTSTAMP:20260423T111830
CREATED:20171024T094952Z
LAST-MODIFIED:20171024T094952Z
UID:6028-1285101000-1285101000@www.loftkoeln.de
SUMMARY:Sanne van Hek Projektensemble\, Improviser in Residence Moers 2010
DESCRIPTION:Sanne Van Hek – trp.\nDafne Vicente-Sandoval – bassoon\nXavier Lopez- electronics\nRichard Comte –guitar\nMatthieu Calleja – drs. /electronics \n\n\nSanne Van Hek\, Improviser in Residence in Moers stellt ihr Projekt auch im LOFT vor. \n„Led by Sanne Van Hek\, this ensemble is an experimental musical group formed of young improvisers from Paris\, all with different backgrounds and projects going on. They will work together for 1 week in a residency at Moers (Germany) to give an aesthetic outcome to what was already sketched during two previously recorded encounters. The band emphasis is on interaction and ways to build a relevant and actual musical discourse while allowing the music to rely on more traditional aspects such as melody\, rhythm and formal structure. So far\, the music is a subtile balance of instrumental extended techniques\, melodic apparitions\, electronically generated ersatz and electric whispering…“
URL:https://www.loftkoeln.de/event/sanne-van-hek-projektensemble-improviser-in-residence-moers-2010/
END:VEVENT
END:VCALENDAR