BEGIN:VCALENDAR
VERSION:2.0
PRODID:-//www.loftkoeln.de - ECPv5.14.2.1//NONSGML v1.0//EN
CALSCALE:GREGORIAN
METHOD:PUBLISH
X-WR-CALNAME:www.loftkoeln.de
X-ORIGINAL-URL:https://www.loftkoeln.de
X-WR-CALDESC:Veranstaltungen für www.loftkoeln.de
BEGIN:VTIMEZONE
TZID:Europe/Berlin
BEGIN:DAYLIGHT
TZOFFSETFROM:+0100
TZOFFSETTO:+0200
TZNAME:CEST
DTSTART:20250330T010000
END:DAYLIGHT
BEGIN:STANDARD
TZOFFSETFROM:+0200
TZOFFSETTO:+0100
TZNAME:CET
DTSTART:20251026T010000
END:STANDARD
END:VTIMEZONE
BEGIN:VEVENT
DTSTART;TZID=Europe/Berlin:20250622T200000
DTEND;TZID=Europe/Berlin:20250622T200000
DTSTAMP:20260423T143201
CREATED:20250505T061205Z
LAST-MODIFIED:20250515T080852Z
UID:29769-1750622400-1750622400@www.loftkoeln.de
SUMMARY:Samuel Gapp & Jan Michálek
DESCRIPTION:Samuel Gapp – Piano\nJan Michálek – Violine\, Elektronik\, Saxophon \n\n(english: see below) \nWeitere Informationen zu den Preisen\, Karten-Reservierungen und den Öffnungszeiten finden Sie hier.\n\nSamuel Gapp © Inês Pizarro Correia ; Jan Michálek © Táňa Lvovská\nSamuel Gapp (DE) und Jan Michálek (CZ) lernten sich in Lissabon kennen\, wo sie beide für mehrere Jahre ihren Lebensmittelpunkt hatten. In dieser Zeit arbeiteten sie in unterschiedlichsten Formationen und Kontexten zusammen – in freier Improvisation\, im Rahmen zeitgenössischer ausgeschriebener Komposition\, hin zu interdisziplinärer Performance und zuletzt in einem Aufenthalt in einer ländlichen Region im Südosten Portugals\, wo sie lokale Bräuche\, Lebensweisen\, traditionelle Musik und nicht zuletzt Klänge im Allgemeinen erforschten. \nIn diesem kammermusikalischen Rahmen stoßen sie abermals aufeinander\, um den gemeinsamen Erfahrungen Ausdruck zu verleihen. Der Fokus ihrer Zusammenarbeit liegt dabei auf dem gegenseitigen Austausch durch Elemente wie dem Spielerischen\, Triebhaften; einer Sensibilität für die reziproken Zusammenhänge interner und externer Dynamiken; sowie Dichotomien wie Intention/“non-Intention“ oder Komposition/Improvisation.\nMan darf gespannt sein! \nhttps://samuelgapp.com \nhttps://www.instagram.com/za.michalek/ \n\n\n\n\n\nSamuel Gapp – piano\nJan Michálek – violin\, electronics\, saxophone \nFurther information about prices\, ticket reservations and our opening times can be found here.\nSamuel Gapp (DE) and Jan Michálek (CZ) met in Lisbon\, where they both lived for several years. During this time\, they worked together in a wide variety of formations and contexts – in free improvisation\, in the context of contemporary written compositions\, in interdisciplinary performance and\, most recently\, in a residency in a rural region in south-eastern Portugal\, where they explored local customs\, ways of life\, traditional music and\, last but not least\, sounds in general. \nIn this chamber music setting\, they once again come together to give expression to their shared experiences. The focus of their collaboration is on mutual exchange through elements such as playfulness and instinctuality; a sensitivity for the reciprocal connections between internal and external dynamics; and dichotomies such as intention/non-intention or composition/improvisation.\nYou can be curious!
URL:https://www.loftkoeln.de/event/samuel-gapp-jan-michalek/
END:VEVENT
END:VCALENDAR