BEGIN:VCALENDAR
VERSION:2.0
PRODID:-//www.loftkoeln.de - ECPv5.14.2.1//NONSGML v1.0//EN
CALSCALE:GREGORIAN
METHOD:PUBLISH
X-WR-CALNAME:www.loftkoeln.de
X-ORIGINAL-URL:https://www.loftkoeln.de
X-WR-CALDESC:Veranstaltungen für www.loftkoeln.de
BEGIN:VTIMEZONE
TZID:Europe/Berlin
BEGIN:DAYLIGHT
TZOFFSETFROM:+0100
TZOFFSETTO:+0200
TZNAME:CEST
DTSTART:20220327T010000
END:DAYLIGHT
BEGIN:STANDARD
TZOFFSETFROM:+0200
TZOFFSETTO:+0100
TZNAME:CET
DTSTART:20221030T010000
END:STANDARD
END:VTIMEZONE
BEGIN:VEVENT
DTSTART;TZID=Europe/Berlin:20220828T180000
DTEND;TZID=Europe/Berlin:20220828T180000
DTSTAMP:20260423T062336
CREATED:20220625T122023Z
LAST-MODIFIED:20230117T123756Z
UID:21215-1661709600-1661709600@www.loftkoeln.de
SUMMARY:S P A C E  Wallumrød · Nillesen · Gramss | live recording & livestream
DESCRIPTION:Christian Wallumrød – Piano\nEtienne Nillesen – präparierte snare drum\n\nSebastian Gramss – Bass\, Spacebass\n  \n\n(english: see below) \nInformationen zu den Preisen\, Karten-Reservierungen und den Öffnungszeiten finden Sie hier.\nDas neue Trio mit dem Norwegischen Pianisten Christian Wallumrød (ECM) und den beiden Kölner Ausnahmemusikern Etienne Nillesen und Sebastian Gramss kommen für ihre Deutschlandpremiere exklusiv ins LOFT. \nhttps://www.christianwallumrod.com/ \n“Kopfkino: Der Begriff ist wie gemacht für Christian Wallumrøds Musik. Viele assoziieren zu ihr Landschaften und Bilder. Doch der Pianist aus Norwegen versteht darunter einfach organisierten Klang – der Stille mit einschließt.\nDiese Musik speist sich aus einer breiten Palette an Einflüssen – Jazz\, Folk\, Neue Musik\, musique concrète\, Electronica – die ständig neu in das spontane Improvisieren einsickern. Die Freiheit im persönlichen Ausdruck und die größtmögliche geistige Offenheit und Flexibilität der 3 Musiker sind das Fundament für ihren gemeinsamen Klang….“\nDeutschlandfunk \n  \nGefördert durch den \n \n  \n  \nunterstützt mit Mitteln der  \n \n\nChristian Wallumrød – piano\nEtienne Nillesen – prepared snare drum\n\nSebastian Gramss – bass\, spacebass\n  \nInformation about prices\, ticket reservations and our opening times can be found here. \nThe new trio with Norwegian pianist Christian Wallumrød (ECM) and the two exceptional musicians Etienne Nillesen and Sebastian Gramss from Cologne come exclusively to LOFT for their German premiere. \nhttps://www.christianwallumrod.com/ \n„Kopfkino: The term is made for Christian Wallumrød’s music. Many associate landscapes and images with it. But the pianist from Norway simply understands it as organized sound – which includes silence.\nThis music draws from a wide range of influences – jazz\, folk\, new music\, musique concrète\, electronica – that constantly seep into spontaneous improvisation in new ways. The freedom of personal expression and the greatest possible intellectual openness and flexibility of the 3 musicians are the foundation for their common sound….“\nDeutschlandfunk \n 
URL:https://www.loftkoeln.de/event/s-p-a-c-e-wallumrod-nillesen-gramss-live-recording-livestream/
END:VEVENT
END:VCALENDAR