BEGIN:VCALENDAR
VERSION:2.0
PRODID:-//www.loftkoeln.de - ECPv5.14.2.1//NONSGML v1.0//EN
CALSCALE:GREGORIAN
METHOD:PUBLISH
X-WR-CALNAME:www.loftkoeln.de
X-ORIGINAL-URL:https://www.loftkoeln.de
X-WR-CALDESC:Veranstaltungen für www.loftkoeln.de
BEGIN:VTIMEZONE
TZID:UTC
BEGIN:STANDARD
TZOFFSETFROM:+0000
TZOFFSETTO:+0000
TZNAME:UTC
DTSTART:20200101T000000
END:STANDARD
END:VTIMEZONE
BEGIN:VEVENT
DTSTART;TZID=UTC:20201108T203000
DTEND;TZID=UTC:20201108T203000
DTSTAMP:20260424T031614
CREATED:20201002T074718Z
LAST-MODIFIED:20201029T073543Z
UID:15422-1604867400-1604867400@www.loftkoeln.de
SUMMARY:ENTFÄLLT: ROAR
DESCRIPTION:Stefan Karl Schmid – Saxophon\nReza Askari – Bass\nFabian Arends – Schlagzeug \nUm Voranmeldung wird gebeten – Informationen zu Konzerten im LOFT während der Corona-Pandemie sowie zum Kartenerwerb hier!\nalso available in english \nKarten:\nnormal 12\,-€uro\nStudierende 5\,- €uro \n\n„ROAR verbindet drei hochtalentierte Musiker zu einer Band\, die man gern oft live erleben möchte“ JAZZPODIUM 07/17 \n„lebendig\, pulsierend\, kraftstrotzend!“\nJAZZ THING 120 \nNEW ALBUM „MAGIC REALISM“ OUT ON QFTF! GET YOUR PERSONAL COPY HERE:\nhttps://rezaaskari.bandcamp.com/ \nDas Trio um den Kölner Bassisten Reza Askari vereint drei junge\, hochkarätige und virtuose Protagonisten der aktuellen europäischen Jazz- und Improvisationsmusik. Zusammen mit Stefan Karl Schmid am Saxophon und Fabian Arends am Schlagzeug hat Reza Askari einen runden und homogenen Klangkörper erschaffen\, welcher vor Spiel- und Experimentierfreude gerade nur so strotzt.  Alle drei Musiker sind gleichwertige Interaktionspartner\, wodurch der dreidimensionale Klangkörper des Ensembles ein Harmonieinstrument nicht vermissen lässt. Das musikalische Fundament des Trios wird von Freundschaft\, gegenseitigem Vertrauen und dem Willen\, neue noch unbekannte Wege zu gehen\, stetig untermauert. Das Spielen mit Aufbrechen und Zusammensetzten von Formen und Strukturen und der Vereinigung von zeitgenössischen Strömungen mit traditionellen Werten des Jazz macht ROAR zu einem spannenden\, intensiven Hörerlebnis.  Mitte 2020 ist das zweite Album von ROAR – ebenfalls eine LOFT-Aufnahme – auf dem Berliner Label QFTF erscheinen. \n\nGefördert von:
URL:https://www.loftkoeln.de/event/roar/
END:VEVENT
END:VCALENDAR