BEGIN:VCALENDAR
VERSION:2.0
PRODID:-//www.loftkoeln.de - ECPv5.14.2.1//NONSGML v1.0//EN
CALSCALE:GREGORIAN
METHOD:PUBLISH
X-WR-CALNAME:www.loftkoeln.de
X-ORIGINAL-URL:https://www.loftkoeln.de
X-WR-CALDESC:Veranstaltungen für www.loftkoeln.de
BEGIN:VTIMEZONE
TZID:Europe/Berlin
BEGIN:DAYLIGHT
TZOFFSETFROM:+0100
TZOFFSETTO:+0200
TZNAME:CEST
DTSTART:20240331T010000
END:DAYLIGHT
BEGIN:STANDARD
TZOFFSETFROM:+0200
TZOFFSETTO:+0100
TZNAME:CET
DTSTART:20241027T010000
END:STANDARD
END:VTIMEZONE
BEGIN:VEVENT
DTSTART;TZID=Europe/Berlin:20241221T200000
DTEND;TZID=Europe/Berlin:20241221T200000
DTSTAMP:20260420T120028
CREATED:20240926T152920Z
LAST-MODIFIED:20241201T103319Z
UID:27837-1734811200-1734811200@www.loftkoeln.de
SUMMARY:RE: CALAMARI | live recording
DESCRIPTION:Tineke Postma – Saxophon & Tasten\nPablo Held – Piano\nOliver Lutz – elektrischer Bass\nPeter Gall – Schlagzeug \n\n(english: see below) \nAb Januar 2024 beginnen alle Konzerte im LOFT um 20.00 Uhr.\nAusnahmen – z.B. Sonntags – sind möglich.\nWeitere Informationen zu den Preisen\, Karten-Reservierungen und den Öffnungszeiten finden Sie hier.\n\nRE:CALAMARI © Karl F Degenhardt\nMit ihren vier außergewöhnlichen Akteur*innen der europäischen Jazzszene ist RE:CALAMARI eine Band voller energetischer Präsenz\, „die virtuos und lustvoll lautmalend\, mühelos die Schwerkraft überwindet„\, so der Kölner Stadtanzeiger. Der NDR betitelt das letzte Album RE:CALAMARI 2 als „kollektive Ortsbestimmung des neueren Jazz„\, und der WDR kürt dieses als „eines der bemerkenswertesten Alben des Jahres„.\nRE:CALAMARI lädt dazu ein\, sich einzufühlen\, um in eine Welt voller Energie und Träumereien einzutauchen. Tief in Melodien verwurzelt\, prägen die unverkennbare Handschrift von Lutz‘ und Helds Kompositionen die Identität von RE:CALAMARI. Die Dynamik und Lebendigkeit ihrer Musik machen jedes Konzert zu einer unvergesslichen Entdeckungsreise\, bei der es scheint\, als bliebe die Zeit stehen. Ein sinnliches Erlebnis\, das nicht nur gehört\, sondern vor allem gefühlt wird. \nhttps://www.oliver-lutz.com/ \nhttps://www.tinekepostma.com/ \nhttps://pabloheld.com/ \nhttps://peter-gall.de/ \n\nKlingt so: \n\n\n\n\n\nTineke Postma – saxophone & keys\nPablo Held – piano\nOliver Lutz – electric bass\nPeter Gall – drums\n \nFrom January 2024 on\, the concerts at the LOFT start round 8.00 pm\nExceptions – e.g. on Sundays – are possible.\nFurther information about prices\, ticket reservations and our opening times can be found here. \nWith its four extraordinary players from the European jazz scene\, RE:CALAMARI is a band full of energetic presence\, “which effortlessly overcomes gravity with virtuosity and a lustful onomatopoeia”\, according to the Kölner Stadtanzeiger. NDR called the latest album RE:CALAMARI 2 a “collective localization of newer jazz”\, and WDR named it “one of the most remarkable albums of the year”.\nRE:CALAMARI invites you to immerse yourself in a world full of energy and reverie. Deeply rooted in melodies\, the unmistakable signature of Lutz‘ and Held’s compositions characterize the identity of RE:CALAMARI. The dynamics and liveliness of their music make every concert an unforgettable journey of discovery\, where it seems as if time stands still. A sensual experience that is not only heard\, but above all felt.
URL:https://www.loftkoeln.de/event/re-calamari/
END:VEVENT
END:VCALENDAR