BEGIN:VCALENDAR
VERSION:2.0
PRODID:-//www.loftkoeln.de - ECPv5.14.2.1//NONSGML v1.0//EN
CALSCALE:GREGORIAN
METHOD:PUBLISH
X-WR-CALNAME:www.loftkoeln.de
X-ORIGINAL-URL:https://www.loftkoeln.de
X-WR-CALDESC:Veranstaltungen für www.loftkoeln.de
BEGIN:VTIMEZONE
TZID:UTC
BEGIN:STANDARD
TZOFFSETFROM:+0000
TZOFFSETTO:+0000
TZNAME:UTC
DTSTART:20150101T000000
END:STANDARD
END:VTIMEZONE
BEGIN:VEVENT
DTSTART;TZID=UTC:20151218T203000
DTEND;TZID=UTC:20151218T203000
DTSTAMP:20260423T102117
CREATED:20170223T113411Z
LAST-MODIFIED:20170223T113411Z
UID:3921-1450470600-1450470600@www.loftkoeln.de
SUMMARY:Ralf Peters  free_voice concert
DESCRIPTION:Ralf Peters – Stimme \n\nWas ist ein Konzert? Der Kölner Stimmkünstler und Philosoph Ralf Peters steigt aus dem Performancefeld\, in dem er sich in den vergangenen Jahren meistens aufgehalten hat\, auf die Konzertbühne\, um der Extended Voice einmal mehr den Raum der im weitesten Sinne musikalischen Möglichkeiten zu eröffnen. Das Ergebnis? Auf jeden Fall ein vorweihnachtliches Konzert der anderen Art! \nwww.stimmfeld.de
URL:https://www.loftkoeln.de/event/ralf-peters-free_voice-concert/
END:VEVENT
END:VCALENDAR