BEGIN:VCALENDAR
VERSION:2.0
PRODID:-//www.loftkoeln.de - ECPv5.14.2.1//NONSGML v1.0//EN
CALSCALE:GREGORIAN
METHOD:PUBLISH
X-WR-CALNAME:www.loftkoeln.de
X-ORIGINAL-URL:https://www.loftkoeln.de
X-WR-CALDESC:Veranstaltungen für www.loftkoeln.de
BEGIN:VTIMEZONE
TZID:UTC
BEGIN:STANDARD
TZOFFSETFROM:+0000
TZOFFSETTO:+0000
TZNAME:UTC
DTSTART:20200101T000000
END:STANDARD
END:VTIMEZONE
BEGIN:VEVENT
DTSTART;TZID=UTC:20201114T203000
DTEND;TZID=UTC:20201114T203000
DTSTAMP:20260423T222243
CREATED:20201003T130908Z
LAST-MODIFIED:20201029T073557Z
UID:15429-1605385800-1605385800@www.loftkoeln.de
SUMMARY:ENTFÄLLT: Rainer Böhm Quartet
DESCRIPTION:Rainer Böhm – Piano\nWanja Slavin – Saxophon\nArne Huber – Bass\nPeter Gall – Schlagzeug \nUm Voranmeldung wird gebeten – Informationen zu Konzerten im LOFT während der Corona-Pandemie sowie zum Kartenerwerb hier!\nalso available in english \nKarten:\nnormal 12\,-€uro\nStudierende 5\,- €uro \n\nR. Böhm © Joachim Gern ; W. Slavin © Dovile Sermokas ; A. Huber © René Mosele ; P. Gall © Stefanie Marcus\nRainer Böhm wirkte als Bandleader bzw. Sideman bei mehr als 60 CD – Einspielungen mit und hat sich als international gefragter Pianist einen Namen in der Jazzszene gemacht. Bereits in jungen Jahren wurde er mit diversen Preisen ausgezeichnet (z.B. Jazzpreis der „Nürnberger Nachrichten“\, Neuer Deutscher Jazzpreis\, Preis für den besten Solisten bei den internationalen Jazzwettbewerben im Jahre 2002 in Hoeilaart/Belgien und 2005 in Getxo/Spanien\, 2003 und 2007 Vierteljahrespreis der Deutschen Schallplattenkritik\, 2007 den 1. Preis beim internationalen Piano Solo Wettbewerb in Freiburg und 2010\nLandesjazzpreis Baden-Württemberg). Neben seiner Tätigkeit als Pianist unterrichtet er ausserdem als Professor für Jazzklavier und Ensembleleitung an der Hochschule für Musik in Nürnberg und Mannheim. \nSeine Musik bewegt sich stilistisch im Bereich Modern Jazz\, ist aber gleichzeitig geprägt durch Einflüsse verschiedener anderer musikalischer Stilrichtungen der Moderne. Mit dem Berliner Saxofonisten Wanja Slavin und Drummer Petet Gall\, sowie den Freiburger Bassisten Arne Huber fand er drei Mitmusiker\, die seiner Musik zu einer besonders großen Ausdruckskraft verhelfen. Sie fungieren jedoch nicht nur als Begleiter. Jedes Bandmitglied nutzt solistische Freiräume und fügt sich bestens in den individuellen Gruppensound ein\, der von Energie\, Transparenz\, Interaktion und Dynamik geprägt ist. Ihr aktuelles Programm zeichnet sich vor allem durch Expressivität und starke Melodielinien aus. Der emotionale Gehalt dieser Musik steht hierbei für das Quartet stets im Vordergrund. \nWebsite Rainer Böhm: www.rainerboehm.de\nWebsite Wanja Slavin: http://www.wanja-slavin.de/\nWebsite Arne Huber: http://www.arnehuber.de/\nWebsite Peter Gall: https://peter-gall.de/\n 
URL:https://www.loftkoeln.de/event/rainer-boehm-quartet/
END:VEVENT
END:VCALENDAR