BEGIN:VCALENDAR
VERSION:2.0
PRODID:-//www.loftkoeln.de - ECPv5.14.2.1//NONSGML v1.0//EN
CALSCALE:GREGORIAN
METHOD:PUBLISH
X-WR-CALNAME:www.loftkoeln.de
X-ORIGINAL-URL:https://www.loftkoeln.de
X-WR-CALDESC:Veranstaltungen für www.loftkoeln.de
BEGIN:VTIMEZONE
TZID:Europe/Berlin
BEGIN:DAYLIGHT
TZOFFSETFROM:+0100
TZOFFSETTO:+0200
TZNAME:CEST
DTSTART:20210328T010000
END:DAYLIGHT
BEGIN:STANDARD
TZOFFSETFROM:+0200
TZOFFSETTO:+0100
TZNAME:CET
DTSTART:20211031T010000
END:STANDARD
END:VTIMEZONE
BEGIN:VEVENT
DTSTART;TZID=Europe/Berlin:20211113T203000
DTEND;TZID=Europe/Berlin:20211113T203000
DTSTAMP:20260424T020051
CREATED:20211004T090253Z
LAST-MODIFIED:20211107T101718Z
UID:18308-1636835400-1636835400@www.loftkoeln.de
SUMMARY:Rainer Böhm Quartet
DESCRIPTION:Rainer Böhm – Piano\nWanja Slavin – Saxophon\nArne Huber – Bass\nPeter Gall – Schlagzeug \n\nDas Konzert wird vor Publikum stattfinden\, weitere Informationen zu Konzerten während der Corona-Pandemie finden Sie hier\, Informationen zu den Preisen\, Karten-Reservierungen und den Öffnungszeitenhier.\nR. Böhm © Joachim Gern ; W. Slavin © Dovile Sermokas ; A. Huber © René Mosele ; P. Gall © Stefanie Marcus\nRainer Böhm wirkte als Bandleader bzw. Sideman bei mehr als 60 CD – Einspielungen mit und hat sich als international gefragter Pianist einen Namen in der Jazzszene gemacht. Bereits in jungen Jahren wurde er mit diversen Preisen ausgezeichnet (z.B. Jazzpreis der „Nürnberger Nachrichten“\, Neuer Deutscher Jazzpreis\, Preis für den besten Solisten bei den internationalen Jazzwettbewerben im Jahre 2002 in Hoeilaart/Belgien und 2005 in Getxo/Spanien\, 2003 und 2007 Vierteljahrespreis der Deutschen Schallplattenkritik\, 2007 den 1. Preis beim internationalen Piano Solo Wettbewerb in Freiburg und 2010\nLandesjazzpreis Baden-Württemberg). Neben seiner Tätigkeit als Pianist unterrichtet er ausserdem als Professor für Jazzklavier und Ensembleleitung an der Hochschule für Musik in Nürnberg und Mannheim. \nSeine Musik bewegt sich stilistisch im Bereich Modern Jazz\, ist aber gleichzeitig geprägt durch Einflüsse verschiedener anderer musikalischer Stilrichtungen der Moderne. Mit dem Berliner Saxofonisten Wanja Slavin und Drummer Peter Gall\, sowie den Freiburger Bassisten Arne Huber fand er drei Mitmusiker\, die seiner Musik zu einer besonders großen Ausdruckskraft verhelfen. Sie fungieren jedoch nicht nur als Begleiter. Jedes Bandmitglied nutzt solistische Freiräume und fügt sich bestens in den individuellen Gruppensound ein\, der von Energie\, Transparenz\, Interaktion und Dynamik geprägt ist. Ihr aktuelles Programm zeichnet sich vor allem durch Expressivität und starke Melodielinien aus. Der emotionale Gehalt dieser Musik steht hierbei für das Quartet stets im Vordergrund. \nWebsite Rainer Böhm: www.rainerboehm.de\nWebsite Wanja Slavin: http://www.wanja-slavin.de/\nWebsite Arne Huber: http://www.arnehuber.de/\nWebsite Peter Gall: https://peter-gall.de/\n\n\n\nRainer Böhm – piano\nWanja Slavin – saxophone\nArne Huber – bass\nPeter Gall – drums \nPlease read our infos concerning concerts with an audience during the Corona pandemic here. Information about prices\, ticket reservations and our opening times can be found here. \nRainer Böhm has participated as a bandleader or sideman in more than 60 CD recordings and has made a name for himself in the jazz scene as an internationally sought-after pianist. Already in his younger years he was awarded with various prizes (e.g. Jazz Prize of the „Nürnberger Nachrichten“\, New German Jazz Prize\, prize for the best soloist at the international jazz competitions in 2002 in Hoeilaart/Belgium and 2005 in Getxo/Spain\, 2003 and 2007 Quarterly Prize of the German Record Critics\, 2007 the 1st prize at the International Piano Solo Competition in Freiburg and 2010\nLandesjazzpreis Baden-Württemberg). In addition to his work as a pianist\, he also teaches as a professor of jazz piano and ensemble conducting at the Hochschule für Musik in Nuremberg and Mannheim. \nHis music moves stylistically in the field of modern jazz\, but is at the same time influenced by various other musical styles of the modern era. With the Berlin saxophonist Wanja Slavin and drummer Peter Gall\, as well as the Freiburg bassist Arne Huber\, he found three fellow musicians who help his music to achieve a particularly great expressiveness. However\, they do not only act as accompanists. Each band member uses soloistic freedom and fits perfectly into the individual group sound\, which is characterized by energy\, transparency\, interaction and dynamics. Their current program is characterized above all by expressivity and strong melody lines. The emotional content of this music is always in the foreground for the quartet.
URL:https://www.loftkoeln.de/event/rainer-boehm-quartet-2/
END:VEVENT
END:VCALENDAR