BEGIN:VCALENDAR
VERSION:2.0
PRODID:-//www.loftkoeln.de - ECPv5.14.2.1//NONSGML v1.0//EN
CALSCALE:GREGORIAN
METHOD:PUBLISH
X-WR-CALNAME:www.loftkoeln.de
X-ORIGINAL-URL:https://www.loftkoeln.de
X-WR-CALDESC:Veranstaltungen für www.loftkoeln.de
BEGIN:VTIMEZONE
TZID:Europe/Berlin
BEGIN:DAYLIGHT
TZOFFSETFROM:+0100
TZOFFSETTO:+0200
TZNAME:CEST
DTSTART:20220327T010000
END:DAYLIGHT
BEGIN:STANDARD
TZOFFSETFROM:+0200
TZOFFSETTO:+0100
TZNAME:CET
DTSTART:20221030T010000
END:STANDARD
END:VTIMEZONE
BEGIN:VEVENT
DTSTART;TZID=Europe/Berlin:20220312T203000
DTEND;TZID=Europe/Berlin:20220312T203000
DTSTAMP:20260422T142804
CREATED:20220214T155744Z
LAST-MODIFIED:20220306T102122Z
UID:19533-1647117000-1647117000@www.loftkoeln.de
SUMMARY:Raf Vertessen Quartet
DESCRIPTION:Anna Webber – Tenorsaxophon\nAdam O’ Farrill – Trompete\nNick Dunston – Bass\nRaf Vertessen – Schlagzeug\, Komposition\n \n\n(english: see below) \nInformationen zu Konzerten während der Corona-Pandemie finden Sie hier\, Informationen zu den Preisen\, Karten-Reservierungen und den Öffnungszeiten finden Sie hier.\nWährend dieser 2. Europatournee wird das Raf Vertessen Quartet Musik aus seinem hochgelobten Debütalbum LOI präsentieren.\nLOI wurde im September 2018 im LOFT in Köln aufgenommen\, auf dem belgischen Avantgarde-Label el NEGOCITO Records veröffentlicht und präsentiert Vertessens offene Kompositionsformen mit Anna Webber am Tenorsaxophon\, Adam O‘ Farrill an der Trompete (kürzlich ausgezeichnet mit dem Vierteljahrespreis der Deutschen Schallplattenkritik 01/2022) und Nick Dunston am Bass. \n„Seit seinem Umzug von seiner belgischen Heimat nach New York City hat der hervorragende Schlagzeuger und gewiefte Komponist Raf Vertessen seine Talente in die stets aufkeimende Improvisations- und Avantgarde-Musiklandschaft der Region eingeschleust und tritt mit hochkarätigen Musikern auf\, wie dieses erstklassige Debüt als Leader beweist.“\nGlenn Astarita\, All About Jazz (14/11/2020) ****1/2 \n„LOI ist eine faszinierende und fesselnde Veröffentlichung eines relativen Newcomers. Es deckt sowohl klanglich als auch texturell eine große Bandbreite ab. Einige von Vertessens Stücken weisen eine gewisse Verspieltheit auf\, die das ansonsten ernste und aufmerksame Zuhören auflockert. Äußerst empfehlenswert.“\nAvant Music News US (07/11/2020) \nhttps://www.rafvertessen.com/ \n\n\nAnna Webber – tenor saxophone\nAdam O‘ Farrill – trumpet\nNick Dunston – bass\nRaf Vertessen – drums\, composition\nPlease read our infos concerning concerts with an audience during the Corona pandemic here. Information about prices\, ticket reservations and our opening times can be found here. \nDuring this 2nd European tour\, The Raf Vertessen Quartet is going to present music from their highly acclaimed debut record LOI.\nLOI was recorded at the LOFT\, Cologne\, in September 2018 and released on Belgian avant garde label el NEGOCITO Records and presents Vertessen’s open composition forms featuring Anna Webber on tenor saxophone\, Adam O‘ Farrill (recently awarded with the Vierteljahrespreis der Deutschen Schallplattenkritik 01/2022) on trumpet and Nick Dunston on bass. \n„Since relocating from his native Belgium to New York City\, superb drummer and wily composer Raf Vertessen has ingratiated his talents into the region’s always burgeoning improv and avant-garde musicscape\, performing with upper-echelon musicians\, evidenced on this first-rate debut as a leader.“\nGlenn Astarita\, All About Jazz (14/11/2020) ****1/2 \n„LOI is an intriguing and compelling release from a relative newcomer. It covers a great deal of ground sonically and texturally. Case in point\, there is a certain playfulness to some of Vertessen’s tunes that breaks up what is otherwise a serious and attention-demanding listen. Highly recommended.“\nAvant Music News US (07/11/2020) \n 
URL:https://www.loftkoeln.de/event/raf-vertessen-quartet/
END:VEVENT
END:VCALENDAR