BEGIN:VCALENDAR
VERSION:2.0
PRODID:-//www.loftkoeln.de - ECPv5.14.2.1//NONSGML v1.0//EN
CALSCALE:GREGORIAN
METHOD:PUBLISH
X-WR-CALNAME:www.loftkoeln.de
X-ORIGINAL-URL:https://www.loftkoeln.de
X-WR-CALDESC:Veranstaltungen für www.loftkoeln.de
BEGIN:VTIMEZONE
TZID:Europe/Berlin
BEGIN:DAYLIGHT
TZOFFSETFROM:+0100
TZOFFSETTO:+0200
TZNAME:CEST
DTSTART:20240331T010000
END:DAYLIGHT
BEGIN:STANDARD
TZOFFSETFROM:+0200
TZOFFSETTO:+0100
TZNAME:CET
DTSTART:20241027T010000
END:STANDARD
END:VTIMEZONE
BEGIN:VEVENT
DTSTART;TZID=Europe/Berlin:20240427T200000
DTEND;TZID=Europe/Berlin:20240427T200000
DTSTAMP:20260423T164959
CREATED:20240306T143506Z
LAST-MODIFIED:20240416T071042Z
UID:26503-1714248000-1714248000@www.loftkoeln.de
SUMMARY:Punk Project: Steidle · Lasfargues · Volkmann · Weber | live recording
DESCRIPTION:Fanny Lasfargues – Bass\nLuise Volkmann – Saxophon\nAlwin Weber – Elektronik\nOliver Steidle – Schlagzeug\n \n\n(english: see below) \nAb Januar 2024 beginnen alle Konzerte im LOFT um 20.00 Uhr.\nAusnahmen – z.B. Sonntags – sind möglich.\nWeitere Informationen zu den Preisen\, Karten-Reservierungen und den Öffnungszeiten finden Sie hier.\n\nright: Luise Volkmann © Thekla Ehling\nIn ihrem 15. Lebensjahr war Luise Volkmann ein Teil des kleinsten autonomen Zentrums Deutschlands: Dem JZO Oerlinghausen. Die Punks boten auf dem Lippischen Land die einzige interessante kulturelle Arbeit: sie organisierten Konzerte\, Themenabende oder Poetry-Slams. Die Musik stand als Ausdruck eines Lebensgefühls und politischer Gesinnung im Zentrum der Gemeinschaft – Musik mit einer mitreißenden Dringlichkeit.\nImmer schon empfand Volkmann\, dass Punk und Free Jazz artverwandt sind. In Dringlichkeit\, politischer Aussage und dem sozialen Drumherum der Musik. So entstand ihr neues Punk-Jazz-Projekt mit Fanny Lasfargues (Bass)\, Oliver Steidle (Schlagzeug) und Alwin Weber (Elektronik). Bei diesem energetischen Repertoire spielen die Musiker*innen zusätzlich zu ihren Instrumenten Noise Toys. Diese von dem Dresdner Elektronik-Künstler Alwin Weber gelöteten Instrumente bringen den nötigen DIY-Klang (Do It Yourself) der Punks in die instrumentale Jazzwelt.\nVerquere Kompositionen\, energetisches Spiel und Noise-Instrumente machen das neue Punk-Jazz-Projekt zu einer einzigartigen künstlerischen Recherche. \nhttps://luisevolkmann.com/ \nhttps://oliversteidle.com/ \nhttps://alwinweber.de/ \n\n\n\nFanny Lasfargues – bass\nLuise Volkmann – saxophone\nAlwin Weber – electronics\nOliver Steidle – drums \nFrom January 2024 on\, the concerts at the LOFT start round 8.00 pm\nExceptions – e.g. on Sundays – are possible.\nFurther information about prices\, ticket reservations and our opening times can be found here. \nWhen she was 15\, Luise Volkmann was part of the smallest autonomous centre in Germany: the JZO Oerlinghausen. The punks offered the only interesting cultural work in the Lippe countryside: they organised concerts\, theme evenings and poetry slams. Music was at the centre of the community as an expression of an attitude to life and political convictions – music with a rousing urgency.\nVolkmann has always felt that punk and free jazz are related. In urgency\, political statement and the social trappings of the music. This is how her new punk jazz project with Fanny Lasfargues (bass)\, Oliver Steidle (drums) and Alwin Weber (electronics) came about. In this energetic repertoire\, the musicians play noise toys in addition to their instruments. These instruments\, soldered by Dresden electronic artist Alwin Weber\, bring the necessary DIY sound (Do It Yourself) of the punks into the instrumental jazz world.\nThe new punk-jazz project is a unique artistic exploration thanks to its strange compositions\, energetic playing and noise instruments.
URL:https://www.loftkoeln.de/event/punk-project-steidle-%c2%b7-lasfargues-%c2%b7-volkmann-%c2%b7-weber/
END:VEVENT
END:VCALENDAR