BEGIN:VCALENDAR
VERSION:2.0
PRODID:-//www.loftkoeln.de - ECPv5.14.2.1//NONSGML v1.0//EN
CALSCALE:GREGORIAN
METHOD:PUBLISH
X-WR-CALNAME:www.loftkoeln.de
X-ORIGINAL-URL:https://www.loftkoeln.de
X-WR-CALDESC:Veranstaltungen für www.loftkoeln.de
BEGIN:VTIMEZONE
TZID:UTC
BEGIN:STANDARD
TZOFFSETFROM:+0000
TZOFFSETTO:+0000
TZNAME:UTC
DTSTART:20130101T000000
END:STANDARD
END:VTIMEZONE
BEGIN:VEVENT
DTSTART;TZID=UTC:20131103T203000
DTEND;TZID=UTC:20131103T203000
DTSTAMP:20260424T190630
CREATED:20170405T110618Z
LAST-MODIFIED:20170405T110618Z
UID:4603-1383510600-1383510600@www.loftkoeln.de
SUMMARY:pommelHORSE
DESCRIPTION:Lukas Roos – clarinets\nJoel Graf – saxes\nOlivier Zurkirchen – rhodes\nJeremias Keller – bass\nGregor Lisser – drums \n\n„pommelHORSE“ ist Englisch und steht für das Seitpferd. Das schreckliche Turngerät\, über das uns früher sadistische Sportlehrer gejagt haben. pommelHORSE erhält nun aber\, fünf Musikern aus Bern sei Dank\, eine neue Bedeutung. Diese turnen mit einer spürbaren Leidenschaft um ihre frischen Kompositionen und erzeugen so Musik\, die bleibt. Das Seitpferd ist wieder da. Und diesmal macht es Spass. Was ein Seitpferd mit Musik zu tun hat? – Hier wird Rock energisch gegrätscht\, ein Solo macht die schnelle Schraube\, Balladeskes und plötzliche Pausen kreieren überraschende Kontraste\, die Arrangements sorgen für Balance und Dramatik und die dynamische Rhythmusgruppe für Pep und einen effektvollen Abgang. Verschiedene Einflüsse im Dunstfeld von Jazz und Rock inspirierten das Quintett zu einem unbeschwert zusammenkombinierten Programm – gemeinsam kreiert und abwechslungsreich und ohne übermässigen Respekt dafür\, wie „man“ es vorher gemacht hat. \n„definitiv erfrischend anders“ \nDiskografie : Pommelhorse UNIT RECORDS 2011
URL:https://www.loftkoeln.de/event/pommelhorse/
END:VEVENT
END:VCALENDAR