BEGIN:VCALENDAR
VERSION:2.0
PRODID:-//www.loftkoeln.de - ECPv5.14.2.1//NONSGML v1.0//EN
CALSCALE:GREGORIAN
METHOD:PUBLISH
X-WR-CALNAME:www.loftkoeln.de
X-ORIGINAL-URL:https://www.loftkoeln.de
X-WR-CALDESC:Veranstaltungen für www.loftkoeln.de
BEGIN:VTIMEZONE
TZID:UTC
BEGIN:STANDARD
TZOFFSETFROM:+0000
TZOFFSETTO:+0000
TZNAME:UTC
DTSTART:20170101T000000
END:STANDARD
END:VTIMEZONE
BEGIN:VEVENT
DTSTART;TZID=UTC:20170624T203000
DTEND;TZID=UTC:20170624T203000
DTSTAMP:20260422T143408
CREATED:20170425T103112Z
LAST-MODIFIED:20170425T103113Z
UID:4777-1498336200-1498336200@www.loftkoeln.de
SUMMARY:PLATTFORM NICHT DOKUMENTIERBARER EREIGNISSE
DESCRIPTION:Eliott Sharp – gitarre\, reeds\nHarald Kimmig – violine\nCarl Ludwig Hübsch – tuba \n\nMit Eliott Sharp trifft ein prominenter Vertreter der New Yorker Szene auf hiesige Improvisatoren. Legendär ist seine Fähigkeit\, sich sicher zwischen Rockmusik\, Jazz\, Neuer Musik auf eine ganz einzigartige Art und Weise zu bewegen. Das hat ihn seit den 70er Jahren zu einer Ikone im Bereich der musikalischen Avantgarde gemacht.\nDer Geiger Harald Kimmig ist vor allem mit dem Streichtrio Kimmig Studer Zimmerlin in letzter Zeit sehr aktiv\, entwickelt aber auch vielfältig eigene Projekte und Produktionen\, die oft im Übergang zum Tanz  angesiedelt sind.\nMit Carl Ludwig Hübsch verbindet ihn eine langjähriger musikalische Zusammenarbeit\, wie z.B. in dem Trio Hübsch | Kimmig | Le Quân genauso wie Konzerte im Duo und in Großen Besetzungen\, zB ENSEMBLE X. In diesem Konzert treffen die drei Musiker zum ersten Mal in dieser Besetzung aufeinander – man darf freudig neugierig gespannt sein sein\, wie sich die Gemeinsamkeiten und Unterschiede der Instrumentierung und Herangehensweise zu EINER Musik verbinden..
URL:https://www.loftkoeln.de/event/plattform-nicht-dokumentierbarer-ereignisse/
END:VEVENT
END:VCALENDAR