BEGIN:VCALENDAR
VERSION:2.0
PRODID:-//www.loftkoeln.de - ECPv5.14.2.1//NONSGML v1.0//EN
CALSCALE:GREGORIAN
METHOD:PUBLISH
X-WR-CALNAME:www.loftkoeln.de
X-ORIGINAL-URL:https://www.loftkoeln.de
X-WR-CALDESC:Veranstaltungen für www.loftkoeln.de
BEGIN:VTIMEZONE
TZID:Europe/Berlin
BEGIN:DAYLIGHT
TZOFFSETFROM:+0100
TZOFFSETTO:+0200
TZNAME:CEST
DTSTART:20240331T010000
END:DAYLIGHT
BEGIN:STANDARD
TZOFFSETFROM:+0200
TZOFFSETTO:+0100
TZNAME:CET
DTSTART:20241027T010000
END:STANDARD
END:VTIMEZONE
BEGIN:VEVENT
DTSTART;TZID=Europe/Berlin:20240503T200000
DTEND;TZID=Europe/Berlin:20240503T200000
DTSTAMP:20260424T014728
CREATED:20240331T135945Z
LAST-MODIFIED:20240410T144840Z
UID:26632-1714766400-1714766400@www.loftkoeln.de
SUMMARY:Peter van Huffel's CALLISTO | live recording
DESCRIPTION:  \nPeter van Huffel – Baritonsaxophon\, Elektronik\, Kompositionen\nLina Allemano – Trompete\nAntonis Anissegos – Piano & Elektronik\nJoe Hertenstein – Schlagzeug \n\n(english: see below) \nAb Januar 2024 beginnen alle Konzerte im LOFT um 20.00 Uhr.\nAusnahmen – z.B. Sonntags – sind möglich.\nWeitere Informationen zu den Preisen\, Karten-Reservierungen und den Öffnungszeiten finden Sie hier.\n\nPeter Van Huffel’s Callisto © Manuel Miethe\nTauchen Sie ein in die Welt von CALLISTO\, wo Tradition auf Innovation trifft und Klanglandschaften mit kreativen Pinselstrichen gemalt werden.\nDas neueste Projekt des Saxophonisten Peter Van Huffel ist ein bassloses Quartett\, das die Grenze zwischen Komposition und Improvisation verwischt. Mit Peter am Baritonsaxofon und Elektronik\, der kanadischen Trompeterin Lina Allemano\, dem griechischen Pianisten und Elektronikkünstler Antonis Anissegos und dem deutschen Schlagzeuger Joe Herstenstein bietet CALLISTO mit Debütalbum Meandering Demons einen einzigartigen und tiefgreifenden Ansatz für den modernen Jazz. \n\n\nhttps://petervanhuffel.com/ \nhttps://petervanhuffel.bandcamp.com/album/meandering-demons \nPeters innovative Kompositionen bilden das Rückgrat für dieses Projekt\, weben komplexe Teppiche\, die strukturierte Elemente mit der Spontaneität freier Improvisation verbinden. Einige Stücke sind weitläufig und erinnern an Suiten\, nehmen den Hörer mit auf eine Reise voller musikalischer Abenteuer und Überraschungen\, während andere eine langsame klangliche Entwicklung bieten\, die sich allmählich durch subtile harmonische Wendungen und Klangschichtungen entwickelt. Das Fehlen eines Basses in diesem Ensemble bietet dem Klavier einen erweiterten Raum\, um die vielfältige Klangpalette des Instruments zu erkunden\, während Trompete und Bariton Frequenzen an den gegenüberliegenden Enden des Spektrums hervorheben und dem Quartett eine nahezu orchestrale Präsenz verleihen. Durch den Einsazu von Elektronik\, die subtil in den Klang des Klaviers integriert ist und sich in bestimmten Momenten mit der Resonanz der akustischen Hörner vermischt\, ist CALLISTO ein fesselndes musikalisches Erlebnis\, das über das Genre hinausgeht und bei Jazzliebhabern und abenteuerlustigen Zuhörern gleichermaßen Anklang findet. \nCALLISTOs erstes Album Meandering Demons ist im März 2024 beim renommierten portugiesischen Avant-Jazz-Label Clean Feed Records erschienen. Diese sorgfältig ausgewählte Sammlung von Tracks zeigt die unbestreitbare Chemie des Quartetts und sprengt die Grenzen der Jazztradition\, indem sie die Zuhörer*innen in eine Welt klanglicher Entdeckungsreisen einlädt. \n\n\nKlingt so: \n\n\n\n\nPeter van Huffel – baritone saxophone\, electronics\, compositions\nLina Allemano – trumpet\nAntonis Anissegos – piano & electronics\nJoe Hertenstein – drums \nFrom January 2024 on\, the concerts at the LOFT start round 8.00 pm\nExceptions – e.g. on Sundays – are possible.\nFurther information about prices\, ticket reservationsand our opening times can be found here.\nImmerse yourself in the world of CALLISTO\, where innovation meets tradition and sonic landscapes are painted with bold strokes of creativity. Saxophonist Peter Van Huffel’s latest project is a bass-less quartet that skews the line between composition and improvisation. Featuring Peter on baritone saxophone and electronics\, Canadian trumpeter Lina Allemano\, Greek pianist and electronics artist Antonis Anissegos\, and German drummer Joe Herstenstein\, CALLISTO offers a unique and profound approach to modern jazz with their debut album\, Meandering Demons. \nPeter’s innovative compositions serve as the backbone for this project\, weaving intricate tapestries that combine structured elements with the spontaneity of free improvisation. Some pieces are expansive and suite-like\, taking the listener on a journey of musical adventure and surprise\, while others offer a slow build which develops gradually through subtle harmonic twists and layering of sound. The absence of bass in this ensemble offers the piano an extended space in which to explore the vast range of the instrument while trumpet and baritone highlight frequencies at opposite ends of the spectrum\, giving the four-piece band an almost orchestral presence. With the addition of electronics subtly incorporated into the sound of the piano and blended at select moments with the resonance of the acoustic horns\, CALLISTO is a captivating musical experience that transcends genre and resonates with jazz enthusiasts and adventurous listeners alike. \nCALLISTO’s inaugural album “Meandering Demons” is slated for release in March 2024 on the renowned Portuguese avant-jazz label Clean Feed Records. This carefully selected collection of tracks showcases the quartet’s unquestionable chemistry\, pushing the boundaries of the jazz tradition and inviting listeners into a realm of sonic exploration. \n 
URL:https://www.loftkoeln.de/event/peter-van-huffels-callisto-live-recording/
END:VEVENT
END:VCALENDAR