BEGIN:VCALENDAR
VERSION:2.0
PRODID:-//www.loftkoeln.de - ECPv5.14.2.1//NONSGML v1.0//EN
CALSCALE:GREGORIAN
METHOD:PUBLISH
X-WR-CALNAME:www.loftkoeln.de
X-ORIGINAL-URL:https://www.loftkoeln.de
X-WR-CALDESC:Veranstaltungen für www.loftkoeln.de
BEGIN:VTIMEZONE
TZID:UTC
BEGIN:STANDARD
TZOFFSETFROM:+0000
TZOFFSETTO:+0000
TZNAME:UTC
DTSTART:20120101T000000
END:STANDARD
END:VTIMEZONE
BEGIN:VEVENT
DTSTART;TZID=UTC:20121218T203000
DTEND;TZID=UTC:20121218T203000
DTSTAMP:20260423T111830
CREATED:20171010T134118Z
LAST-MODIFIED:20171010T134118Z
UID:5407-1355862600-1355862600@www.loftkoeln.de
SUMMARY:Permanent Flow: Konstruktion und „Verschwendung“ von Andreas Wagner
DESCRIPTION:Fabian Jung – dr.\, perc.\nPhilip Zoubek – piano\nJoscha Oetz – bass\nAndreas Wagner – cl.\, sax.\, life electr.\nNora Krahl  – Cello\nElisabeth Fügemann – Cello \n\nNeue Stücke für zwei Celli mit Live-Elektronik und Stereoprojektionen\, eingebettet in die gelenkten Improvisationen eines Free Jazz Quartettes
URL:https://www.loftkoeln.de/event/permanent-flow-konstruktion-und-%e2%80%9everschwendung%e2%80%9c-von-andreas-wagner/
END:VEVENT
END:VCALENDAR