BEGIN:VCALENDAR
VERSION:2.0
PRODID:-//www.loftkoeln.de - ECPv5.14.2.1//NONSGML v1.0//EN
CALSCALE:GREGORIAN
METHOD:PUBLISH
X-WR-CALNAME:www.loftkoeln.de
X-ORIGINAL-URL:https://www.loftkoeln.de
X-WR-CALDESC:Veranstaltungen für www.loftkoeln.de
BEGIN:VTIMEZONE
TZID:Europe/Berlin
BEGIN:DAYLIGHT
TZOFFSETFROM:+0100
TZOFFSETTO:+0200
TZNAME:CEST
DTSTART:20220327T010000
END:DAYLIGHT
BEGIN:STANDARD
TZOFFSETFROM:+0200
TZOFFSETTO:+0100
TZNAME:CET
DTSTART:20221030T010000
END:STANDARD
END:VTIMEZONE
BEGIN:VEVENT
DTSTART;TZID=Europe/Berlin:20220414T203000
DTEND;TZID=Europe/Berlin:20220414T203000
DTSTAMP:20260423T111507
CREATED:20220307T072344Z
LAST-MODIFIED:20220406T135752Z
UID:19798-1649968200-1649968200@www.loftkoeln.de
SUMMARY:Perfektomat und der Retrogott
DESCRIPTION:Harmolodischer Hip Hop \nRetrogott – Vocals\nNiels Klein – Saxophone\nLaura Robles – Cajon\nSyavash Rastani – Tombak\, Daf\nNils Tegen – Piano\, Keyboards\nNorbert Scholly – Gitarre\nJoscha Oetz  – Bass \n\n(english: see below) \nInformationen zu Konzerten während der Corona-Pandemie finden Sie hier\, Informationen zu den Preisen\, Karten-Reservierungen und den Öffnungszeiten finden Sie hier.\n© Christian Klingenbiel\nAls immer wieder neu und anders aufgestellte Working Band ist Perfektomat das ideale Experimentierlabor für den Bassisten Joscha Oetz. \nhttp://www.joschaoetz.com/ \nDie Trio-Edition mit Laura Robles und Pianist Norman Peplow entfachte ein „Freudenfeuer an vorwärtsweisendem\, mitreißendem Jazz“\, war zu lesen\, und auch die Quartett-Ausgabe mit Niels Klein\, Simon Nabatov und diversen illustren Gästen begeisterte: „So konsequent wie dieses Quartett hat schon seit längerem keine Formation mehr den akustischen Jazz für sich mit einem eigenen\, durchdachten Stil definiert”\, schrieb Werner Stiefele. Das Album Perfektomat (Klaeng records 2015) war für den Vierteljahrespreis der Deutschen Schallplattenkritik nominiert.\nSo groovend\, so entspannt und so komplex kann es weitergehen\, und doch bleibt nichts wie es ist: Perfektomat trifft auf Retrogott\, Jazz auf HipHop\, Rhythmus auf Riddim\, Beats und deutschen Sprechgesang. Wo soll das nur hinführen? Mit Sicherheit zu einer aufregenden Herausforderung und zu einer neuen Facette im schillernden Perfektomat-Kaleidoskop. \n„Keine Ahnung\, ob meine Flows Sinn machen“\, rappte Retrogott\, aber auch: „Ich bin so überzeugend\, ich bekehre den Olymp.“ \n\n\n\n\nHarmolodic Hip Hop \nRetrogott – vocals\nNiels Klein – saxophone\nLaura Robles – cajon\nSyavash Rastani – tombak\, daf\nNils Tegen – piano\, keyboards\nNorbert Scholly – guitar\nJoscha Oetz  – bass \n\nPlease read our infos concerning concerts during the Corona pandemic here. Information about prices\, ticket reservations and our opening times can be found here. \nAs a constantly new and different working band\, Perfektomat is the ideal experimental laboratory for bassist Joscha Oetz.\nThe trio edition with Laura Robles and pianist Norman Peplow ignited a „bonfire of forward-looking\, rousing jazz„\, it was read\, and the quartet edition with Niels Klein\, Simon Nabatov and various illustrious guests was also enthusiastic: „No formation has defined acoustic jazz for itself with its own\, well thought-out style as consistently as this quartet has for a long time„\, wrote Werner Stiefele. The album Perfektomat (Klaeng records 2015) was nominated for the Quarterly Prize of the German Record Critics.\nIt can go on as groovy\, as relaxed and as complex\, and yet nothing remains as it is: Perfektomat meets Retrogott\, jazz meets hip hop\, rhythm meets riddim\, beats and German spoken word. Where will this lead? Certainly to an exciting challenge and a new facet in the dazzling Perfektomat kaleidoscope.\n„I don’t know if my flows make sense\,“ rapped Retrogott\, but also: „I‘m so convincing\, I’m converting Olympus.“ \n 
URL:https://www.loftkoeln.de/event/perfektomat-und-der-retrogott/
END:VEVENT
END:VCALENDAR