BEGIN:VCALENDAR
VERSION:2.0
PRODID:-//www.loftkoeln.de - ECPv5.14.2.1//NONSGML v1.0//EN
CALSCALE:GREGORIAN
METHOD:PUBLISH
X-WR-CALNAME:www.loftkoeln.de
X-ORIGINAL-URL:https://www.loftkoeln.de
X-WR-CALDESC:Veranstaltungen für www.loftkoeln.de
BEGIN:VTIMEZONE
TZID:UTC
BEGIN:STANDARD
TZOFFSETFROM:+0000
TZOFFSETTO:+0000
TZNAME:UTC
DTSTART:20200101T000000
END:STANDARD
END:VTIMEZONE
BEGIN:VEVENT
DTSTART;TZID=UTC:20200318T203000
DTEND;TZID=UTC:20200318T203000
DTSTAMP:20260420T160449
CREATED:20200122T094136Z
LAST-MODIFIED:20200528T050118Z
UID:13506-1584563400-1584563400@www.loftkoeln.de
SUMMARY:ENTFÄLLT: "Percussion" // Live-Mitschnitt
DESCRIPTION:Auf Grund der aktuellen Corona-Krise entfallen alle Konzerte & Veranstaltungen im LOFT bis auf Weiteres. Wir informieren Sie\, wenn der Betrieb wiederaufgenommen wird.\nBleiben Sie gesund – beachten Sie die Hygiene-Regeln! \nDue to the Corona crisis\, all concerts & events at the LOFT are on hold until further notice.\nStay well – heed the basic rules of hygiene! \n\nFelix Hauptmann – Piano\, Komposition\nFelix Henkelhausen – Bass\nLeif Berger – Schlagzeug \n\nUraufführung neuer Kompositionen für akustisches Klaviertrio von Felix Hauptmann. Die Werke basieren auf rhythmischen Strukturen\, die sowohl als Anker\, als auch als Improvisationsgrundlage dienen. \nInterne Kommunikation erweitern und neben der Gestaltung harmonischer und melodischer Räume die rhythmische\, perkussive Ebene erforschen.\nAn diesem Abend werden elf Kompositionen unter dem Titel Percussion erstmals aufgeführt\, es wird zudem einen Live-Mitschnitt geben.
URL:https://www.loftkoeln.de/event/percussion-live-mitschnitt/
END:VEVENT
END:VCALENDAR