BEGIN:VCALENDAR
VERSION:2.0
PRODID:-//www.loftkoeln.de - ECPv5.14.2.1//NONSGML v1.0//EN
CALSCALE:GREGORIAN
METHOD:PUBLISH
X-WR-CALNAME:www.loftkoeln.de
X-ORIGINAL-URL:https://www.loftkoeln.de
X-WR-CALDESC:Veranstaltungen für www.loftkoeln.de
BEGIN:VTIMEZONE
TZID:UTC
BEGIN:STANDARD
TZOFFSETFROM:+0000
TZOFFSETTO:+0000
TZNAME:UTC
DTSTART:20150101T000000
END:STANDARD
END:VTIMEZONE
BEGIN:VEVENT
DTSTART;TZID=UTC:20150902T203000
DTEND;TZID=UTC:20150902T203000
DTSTAMP:20260424T121610
CREATED:20170303T090307Z
LAST-MODIFIED:20170303T090307Z
UID:4059-1441225800-1441225800@www.loftkoeln.de
SUMMARY:PEHB
DESCRIPTION:Dierk Peters – vibr.\n Jonas Engel – sax.\nFlorian Herzog – bass\n Leif Berger – drums \n\nPEHB haben schon öfter hinter verschlossener Türe probiert bevor sie sich zu einer Spontan-Tour durch Holland zusammenfanden. Dabei wurden Konzepte und Kompositionen erarbeitet\, die die Kölner Musiker zu einer Band formten. Wie die Initialen im Namen andeuten hat die Gleichberechtigung Vorrang. Melodie\, Begleitung und Groove wandern durch alle Instrumente. Freie Improvisation und Komposition verschmelzen zu einer Gesamtheit.\nWie verschieden auch die vier Musiker sind\, als PEHB bilden sie eine Einheit.
URL:https://www.loftkoeln.de/event/pehb/
END:VEVENT
END:VCALENDAR