BEGIN:VCALENDAR
VERSION:2.0
PRODID:-//www.loftkoeln.de - ECPv5.14.2.1//NONSGML v1.0//EN
CALSCALE:GREGORIAN
METHOD:PUBLISH
X-WR-CALNAME:www.loftkoeln.de
X-ORIGINAL-URL:https://www.loftkoeln.de
X-WR-CALDESC:Veranstaltungen für www.loftkoeln.de
BEGIN:VTIMEZONE
TZID:Europe/Berlin
BEGIN:DAYLIGHT
TZOFFSETFROM:+0100
TZOFFSETTO:+0200
TZNAME:CEST
DTSTART:20220327T010000
END:DAYLIGHT
BEGIN:STANDARD
TZOFFSETFROM:+0200
TZOFFSETTO:+0100
TZNAME:CET
DTSTART:20221030T010000
END:STANDARD
END:VTIMEZONE
BEGIN:VEVENT
DTSTART;TZID=Europe/Berlin:20220515T203000
DTEND;TZID=Europe/Berlin:20220515T203000
DTSTAMP:20260424T105917
CREATED:20220331T134035Z
LAST-MODIFIED:20220404T120550Z
UID:19957-1652646600-1652646600@www.loftkoeln.de
SUMMARY:Payne · Bänsch · Böhm · Oetz Salcines · Craig
DESCRIPTION:Sean Payne – Saxophon & Komposition\nJakob Bänsch – Trompete\nRainer Böhm – Piano\nDaniel Oetz Salcines – Bass\nKai Craig – Schlagzeug \n\n(english: see below) \nInformationen zu Konzerten während der Corona-Pandemie finden Sie hier\, Informationen zu den Preisen\, Karten-Reservierungen und den Öffnungszeiten finden Sie hier.\nSeit seinem Auftritt im Finale des allerersten BBC Young Jazz Musician of the Year (2014) im Alter von 13 Jahren arbeitet Sean regelmäßig als freiberuflicher Musiker in ganz Großbritannien.\nSean war von 2017 bis 2020 Mitglied von Clark Traceys Quintett und hat darüber hinaus als Sideman mit Musikern wie Gwilym Simcock\, Laurence Cottle\, Pablo Held\, Nigel Hitchcock\, Kit Downes und Mark Nightingale gearbeitet.\nIm Jahr 2018 war Sean Halbfinalist beim Michael Brecker International Saxophone Competition. \n„Sean ist ein fantastischer Spieler und hat großartige Ohren – und er kann swingen!“\nSusan Brecker \nSean hat an der Purcell School\, der Royal Academy of Music und der Hochschule für Musik & Tanz Köln studiert. Zusammen mit dem Schlagzeuger Kai Craig hat Sean für dieses Konzert eine Gruppe zusammengestellt\, die noch nie zusammen aufgetreten ist.\nSie werden zwei Sets mit Seans Originalmusik sowie eine Auswahl anderer Stücke aus der Jazztradition spielen. \n\nSean Payne – saxophone & composition\nJakob Bänsch – trumpet\nRainer Böhm – piano\nDaniel Oetz Salcines – Bass\nKai Craig – drums \nPlease read our infos concerning concerts with an audience during the Corona pandemic here. Information about prices\, ticket reservations and our opening times can be found here. \n\nSince performing in the final of the first ever BBC Young Jazz Musician of the Year (2014) at the age of 13\, Sean has worked as regularly as a freelance musician around the UK.\nSean was a member of Clark Tracey’s Quintet 2017-2020 and alongside that\, has had sideman experience working with musicians such as Gwilym Simcock\, Laurence Cottle\, Pablo Held\, Nigel Hitchcock\, Kit Downes and Mark Nightingale.\nIn 2018\, Sean was a semi-finalist in the Michael Brecker International Saxophone Competition. \n„Sean is a fantastic player and has great ears; and he can swing!“\nSusan Brecker \nSean has studied at the Purcell School\, Royal Academy of Music and the Hochschule für Musik & Tanz Köln. Along with Drummer Kai Craig\, Sean has selected a group for this concert which has never previously performed together.\nThey will be playing two sets of Sean’s original music\, as well as a selection of other tunes in the Jazz Tradition.
URL:https://www.loftkoeln.de/event/payne-%c2%b7-baensch-%c2%b7-boehm-%c2%b7-oetz-salcines-%c2%b7-craig/
END:VEVENT
END:VCALENDAR