BEGIN:VCALENDAR
VERSION:2.0
PRODID:-//www.loftkoeln.de - ECPv5.14.2.1//NONSGML v1.0//EN
CALSCALE:GREGORIAN
METHOD:PUBLISH
X-WR-CALNAME:www.loftkoeln.de
X-ORIGINAL-URL:https://www.loftkoeln.de
X-WR-CALDESC:Veranstaltungen für www.loftkoeln.de
BEGIN:VTIMEZONE
TZID:UTC
BEGIN:STANDARD
TZOFFSETFROM:+0000
TZOFFSETTO:+0000
TZNAME:UTC
DTSTART:20080101T000000
END:STANDARD
END:VTIMEZONE
BEGIN:VEVENT
DTSTART;TZID=UTC:20080605T203000
DTEND;TZID=UTC:20080605T203000
DTSTAMP:20260420T144041
CREATED:20180820T122552Z
LAST-MODIFIED:20180821T140330Z
UID:9128-1212697800-1212697800@www.loftkoeln.de
SUMMARY:Paul Wiltgen & Brian Seeger
DESCRIPTION:Brian Seeger – guitar\nPablo Held – piano\nRobert Landfermann – bass\nPaul Wiltgen – drums \n\nBrian Seeger\, einer der besten Gitarristen der New Orleans Szene zusammen mit dem dem in New York lebenden aus Luxemburg stammenden Schlagzeuger Paul Wiltgen und 2 der (schon nicht mehr ) New Comer der Kölner Szene Pablo Held und Robert Landfermann treffen in diesem Konzert zusammen.\nSeeger hat mit vielen Größen des Jazz zusammengearbeitet dazu gehören u.a.Aaron Neville\, Charlie Hunter\, Big John Patton\, Chris Wood\, Jason Marsalis\, Davell Crawford\, Stanton Moore\, Johnny Vidacovich\, John Ellis\, Brian Blade\, Theresa Andersson\, Delmark Records‘ tenorman Ed Petersen\, Zachary Richard\, Randy Brecker und Rebecca Paris. Im Augenblick unterrichtet er an der University of New Orleans.\n„One of the best young drummers in NYC right now!“ (David Binney) über den jungen Schlagzeuger Paul Wiltgen der seit 2001 seinen Wohnsitz in New York hat. Dort studierte er an der Manhattan School of Music und ist seitdem in vielen New Yorker Gruppen ein gern gesehener Kollege.\nAuch dieses Konzert findet wieder mal nicht „ohne Robert“ statt – und Pablo Held ist in der Kölner Szene auch kein Unbekannter mehr.
URL:https://www.loftkoeln.de/event/paul-wiltgen-brian-seeger/
END:VEVENT
END:VCALENDAR