BEGIN:VCALENDAR
VERSION:2.0
PRODID:-//www.loftkoeln.de - ECPv5.14.2.1//NONSGML v1.0//EN
CALSCALE:GREGORIAN
METHOD:PUBLISH
X-WR-CALNAME:www.loftkoeln.de
X-ORIGINAL-URL:https://www.loftkoeln.de
X-WR-CALDESC:Veranstaltungen für www.loftkoeln.de
BEGIN:VTIMEZONE
TZID:Europe/Berlin
BEGIN:DAYLIGHT
TZOFFSETFROM:+0100
TZOFFSETTO:+0200
TZNAME:CEST
DTSTART:20070325T010000
END:DAYLIGHT
BEGIN:STANDARD
TZOFFSETFROM:+0200
TZOFFSETTO:+0100
TZNAME:CET
DTSTART:20071028T010000
END:STANDARD
END:VTIMEZONE
BEGIN:VEVENT
DTSTART;TZID=Europe/Berlin:20070117T203000
DTEND;TZID=Europe/Berlin:20070117T203000
DTSTAMP:20260421T161314
CREATED:20220207T103906Z
LAST-MODIFIED:20220210T173725Z
UID:19368-1169065800-1169065800@www.loftkoeln.de
SUMMARY:PARAGON (Köln / London)
DESCRIPTION:Peter Ehwald – reeds \nArthur Lea – piano & tenorhorn \n Mathias Nowak – bass\nBen Bryant – drums\, percussion & vibes \n\nParagon lässt balladeske Phrasen in die Ohren perln\, Paragon rockt was das Zeug hält. Die Londoner und Kölner Jazzmusiker finden sich seit Jahren regelmäßig zusammen\, um gemeinsam Ihren Traum vom modern improvisierten Jazzmoment in den Boden zu zwirbeln. Die jungen Musiker der Band arbeiteten bereits mit Internationalen Größen\, wie: Clarence Penn\, Nils Wogram\, Dan Weiss\, Sara Caswell\, Herbaliser\, John Helliwell (Supertramp)\, Mark Hart (Crowded House)\, Mike Walker\, Robert Mitchel\, Georg Ruby\, Gerard Presenscer und Julian Arguelles. Paragon gewann den Publikumspreis des Tremplin Jazz Festival in Avignon 2006. Auf dem nun auf Konnex Records erschienenen Erstlingswerk verbinden die vier Musiker ihre starke Melodik mit rhythmischer Komplexität und harmonischer Bewegung.
URL:https://www.loftkoeln.de/event/paragon-koeln-london/
END:VEVENT
END:VCALENDAR