BEGIN:VCALENDAR
VERSION:2.0
PRODID:-//www.loftkoeln.de - ECPv5.14.2.1//NONSGML v1.0//EN
CALSCALE:GREGORIAN
METHOD:PUBLISH
X-WR-CALNAME:www.loftkoeln.de
X-ORIGINAL-URL:https://www.loftkoeln.de
X-WR-CALDESC:Veranstaltungen für www.loftkoeln.de
BEGIN:VTIMEZONE
TZID:UTC
BEGIN:STANDARD
TZOFFSETFROM:+0000
TZOFFSETTO:+0000
TZNAME:UTC
DTSTART:20180101T000000
END:STANDARD
END:VTIMEZONE
BEGIN:VEVENT
DTSTART;TZID=UTC:20180618T203000
DTEND;TZID=UTC:20180618T203000
DTSTAMP:20260424T153421
CREATED:20180128T112056Z
LAST-MODIFIED:20180516T120722Z
UID:7541-1529353800-1529353800@www.loftkoeln.de
SUMMARY:Pablo Held meets…Vol. 8
DESCRIPTION:Lucia Cadotsch – Stimme\nJakob Buchanan – Trompete\nPablo Held – Piano\nJonas Westergaard – Bass\nAndi Haberl – Schlagzeug\n \n\nAuf faszinierende Begegnungen kann man sich freuen bei der neuen Reihe von Konzerten\, bei der Pablo Held seit 2017 Gastgeber im LOFT ist. Die ohne viele Vorgaben\, doch mit ganz bestimmten Beweggründen geschaffenen Gelegenheiten zu künstlerischem Austausch\, das Aufeinandertreffen von Musikern mit jeweils ureigener musikalischer Stimme und der bewusst abgestimmten Auswahl der Ensembles lassen die Erwartung zu\, dass hier nicht nur unvergessliche Ereignisse auf uns warten\, sondern auch das unaufhaltsame Wachsen einer Szene\, die aus dem Kreis der Musiker des Pirouet-Labels hervorgeht\, einer Szene\, die der Schaffung von Musik\, die aus dem Moment geboren wird verpflichtet ist und über die Mittel der Tradition souverän verfügt.
URL:https://www.loftkoeln.de/event/pablo-held-meets%e2%80%a6vol-8/
END:VEVENT
END:VCALENDAR