BEGIN:VCALENDAR
VERSION:2.0
PRODID:-//www.loftkoeln.de - ECPv5.14.2.1//NONSGML v1.0//EN
CALSCALE:GREGORIAN
METHOD:PUBLISH
X-WR-CALNAME:www.loftkoeln.de
X-ORIGINAL-URL:https://www.loftkoeln.de
X-WR-CALDESC:Veranstaltungen für www.loftkoeln.de
BEGIN:VTIMEZONE
TZID:UTC
BEGIN:STANDARD
TZOFFSETFROM:+0000
TZOFFSETTO:+0000
TZNAME:UTC
DTSTART:20170101T000000
END:STANDARD
END:VTIMEZONE
BEGIN:VEVENT
DTSTART;TZID=UTC:20170216T203000
DTEND;TZID=UTC:20170216T203000
DTSTAMP:20260424T104343
CREATED:20170103T125151Z
LAST-MODIFIED:20170213T135818Z
UID:3599-1487277000-1487277000@www.loftkoeln.de
SUMMARY:PABLO HELD MEETS… 1. Konzert
DESCRIPTION:Christian Weidner – alto saxophone\nJohn Schröder – guitar\nMatthias Akeo Nowak – bass\nSean Carpio – drums\n\nPablo Held – piano \n\ndesign by Pia Held\nAuf faszinierende Begegnungen kann man sich freuen bei der neuen Reihe von Konzerten\, bei der Pablo Held 2017 im LOFT Gastgeber sein wird. Die ohne viele Vorgaben\, doch mit ganz bestimmten Beweggründen geschaffenen Gelegenheiten zu künstlerischem Austausch\, das Aufeinandertreffen von Musikern mit jeweils ureigener musikalischer Stimme und der bewußt abgestimmten Auswahl der Ensembles lassen die Erwartung zu\, dass hier nicht nur unvergessliche Ereignisse auf uns warten\, sondern auch das unaufhaltsame Wachsen einer Szene\, die aus dem Kreis der Musiker des Pirouet-Labels hervorgeht\, einer Szene\, die der Schaffung von Musik\, die aus dem Moment geboren wird verpflichtet ist und über die Mittel der Tradition souverän verfügt. 
URL:https://www.loftkoeln.de/event/pablo-held-meets%e2%80%a6-1-konzert/
END:VEVENT
END:VCALENDAR