BEGIN:VCALENDAR
VERSION:2.0
PRODID:-//www.loftkoeln.de - ECPv5.14.2.1//NONSGML v1.0//EN
CALSCALE:GREGORIAN
METHOD:PUBLISH
X-WR-CALNAME:www.loftkoeln.de
X-ORIGINAL-URL:https://www.loftkoeln.de
X-WR-CALDESC:Veranstaltungen für www.loftkoeln.de
BEGIN:VTIMEZONE
TZID:UTC
BEGIN:STANDARD
TZOFFSETFROM:+0000
TZOFFSETTO:+0000
TZNAME:UTC
DTSTART:20130101T000000
END:STANDARD
END:VTIMEZONE
BEGIN:VEVENT
DTSTART;TZID=UTC:20131027T203000
DTEND;TZID=UTC:20131027T203000
DTSTAMP:20260422T161432
CREATED:20170405T112317Z
LAST-MODIFIED:20170405T112317Z
UID:4613-1382905800-1382905800@www.loftkoeln.de
SUMMARY:Opus Null
DESCRIPTION:Albrecht Maurer – viol.\nVincent Royer – viola\nElisabeth Fügemann – cello\nRobert Landfermann – bass \n\nVier hervorragende Streicher (natürlich „nicht ohne Robert“) – die im Jazz\, der klassischen Musik und der Neuen Musik aktiv sind\, in einem „tiefen Streichquartett“ spielen sie ein Konzert bei dem Geräusche und Töne\, die Schönheit und ihr Gegenteil\, möglich\, erwünscht und wild kombinierbar sind. Das Gedicht des Dadaisten Hans Arp „Opus Null“ und seine verzweifelten Zaubersprüche gegen das Grauen der Welt geben dabei eine Referenz zu drei wichtigen Impulsen: spielen\, teilen\, handeln. \nwww.albrechtmaurer.de \n www.vincent-royer.com \nwww.robertlandfermann.com \n 
URL:https://www.loftkoeln.de/event/opus-null/
END:VEVENT
END:VCALENDAR