BEGIN:VCALENDAR
VERSION:2.0
PRODID:-//www.loftkoeln.de - ECPv5.14.2.1//NONSGML v1.0//EN
CALSCALE:GREGORIAN
METHOD:PUBLISH
X-WR-CALNAME:www.loftkoeln.de
X-ORIGINAL-URL:https://www.loftkoeln.de
X-WR-CALDESC:Veranstaltungen für www.loftkoeln.de
BEGIN:VTIMEZONE
TZID:UTC
BEGIN:STANDARD
TZOFFSETFROM:+0000
TZOFFSETTO:+0000
TZNAME:UTC
DTSTART:20100101T000000
END:STANDARD
END:VTIMEZONE
BEGIN:VEVENT
DTSTART;TZID=UTC:20100318T203000
DTEND;TZID=UTC:20100318T203000
DTSTAMP:20260422T164006
CREATED:20171027T091257Z
LAST-MODIFIED:20171027T091257Z
UID:6152-1268944200-1268944200@www.loftkoeln.de
SUMMARY:O L A F L I N D Quartett 
DESCRIPTION:Leonhards Huhn- as.\, ss.\nStefan Karl Schmid – ts.\nMarcel Richard – bass\nRafael Calman – drums \n\nJanuar 2009\, Jam Session\, ein Proberaum\, vier Musiker\, davon zwei Saxophonisten\, Klavier? Versehentlich nicht eingeladen… Das Fehlen eines Harmonieinstruments erzeugte jedoch nicht etwa Leere\, sondern bot den Akteuren Raum für warme\, verbindliche Verwebungen der beiden Bläser untereinander sowie der Bläsersektion mit der Rhythmusgruppe. Es stand außer Frage diesen auf Kommunikation und Interaktion basierenden Ensemblegeist fortan beständig auszuarbeiten. Die neuen Kompositionen werden der Band auf den Leib geschrieben und erzeugen im Zusammenspiel eine kammermusikalische Dynamik\, wie sie nur in dieser Konstellation möglich ist. Die hierdurch im Spannungsfeld von Tradition und Avantgarde erreichte kollektive Intensität wird mit klanglicher Leichtigkeit dargeboten und nimmt beständig neue Wege. Musik\, die den Intellekt erst anspricht\, nachdem sie das Ohr erreicht hat\, voll Kraft\, Wärme und Liebe zum Detail.
URL:https://www.loftkoeln.de/event/o-l-a-f-l-i-n-d-quartett%c2%a0/
END:VEVENT
END:VCALENDAR