BEGIN:VCALENDAR
VERSION:2.0
PRODID:-//www.loftkoeln.de - ECPv5.14.2.1//NONSGML v1.0//EN
CALSCALE:GREGORIAN
METHOD:PUBLISH
X-WR-CALNAME:www.loftkoeln.de
X-ORIGINAL-URL:https://www.loftkoeln.de
X-WR-CALDESC:Veranstaltungen für www.loftkoeln.de
BEGIN:VTIMEZONE
TZID:Europe/Berlin
BEGIN:DAYLIGHT
TZOFFSETFROM:+0100
TZOFFSETTO:+0200
TZNAME:CEST
DTSTART:20210328T010000
END:DAYLIGHT
BEGIN:STANDARD
TZOFFSETFROM:+0200
TZOFFSETTO:+0100
TZNAME:CET
DTSTART:20211031T010000
END:STANDARD
END:VTIMEZONE
BEGIN:VEVENT
DTSTART;TZID=Europe/Berlin:20211008T203000
DTEND;TZID=Europe/Berlin:20211008T203000
DTSTAMP:20260425T145250
CREATED:20210902T083801Z
LAST-MODIFIED:20220521T102532Z
UID:18019-1633725000-1633725000@www.loftkoeln.de
SUMMARY:NoHum
DESCRIPTION:Jonas Engel – Altsaxophon\nRalph Beerkircher – Elektrische Gitarre\nChristian Lorenzen – Fender Rhodes\, Synth\nJan Philipp – Schlagzeug \n\nDas Konzert wird vor Publikum stattfinden\, weitere Informationen zu Konzerten während der Corona-Pandemie finden Sie hier\, Informationen zu den Preisen\, Karten-Reservierungen und den Öffnungszeiten hier\nJP & JE © Peter Tümmers ; CL © Jasim Kessler\n„cranky beats on fire with mostly sad chords and strange melodies!“ \nDie Musik des Quartetts NoHum changiert zwischen auskomponierten Material\, freier und gebundener Improvisation\, grooveorientiert\, elektronisches Gerät sucht sich auch seinen Raum\, ziemlich laut aber auch sehr leise kann es werden. Es passiert viel dazwischen… und manchmal drüber hinaus…\nDie Vier freuen sich\, die neuen (und auch ein paar alte) Kompositionen von Ralph Beerkircher – vor Zeugen – in die Mangel zu nehmen. \nhttps://jonasengel.com/ \nhttps://www.ralphbeerkircher.de/\n \nhttp://christian-lorenzen.com/ \nhttps://janphilipp.net/ \n\nGefördert von:\nIFM e.V. mit Projektmitteln vom Kulturamt der Stadt Köln \n      \n\nJonas Engel – alto saxophone\nRalph Beerkircher – electric guitar\nChristian Lorenzen – Fender Rhodes\, synthesizer\nJan Philipp – drums\n \nPlease read our infos concerning concerts with an audience during the Corona pandemic here. Information about prices\, ticket reservations and our opening times can be found here\n\n„cranky beats on fire with mostly sad chords and strange melodies!“ \nThe music of the quartet NoHum oscillates between composed material\, free and bound improvisation\, groove-oriented\, electronic equipment also seeks its space\, quite loud but also very quiet it can become. A lot happens in between… and sometimes beyond…\nThe four are happy to put Ralph Beerkircher’s new (and also some old) compositions through the wringer – in front of witnesses.
URL:https://www.loftkoeln.de/event/nohum/
END:VEVENT
END:VCALENDAR