BEGIN:VCALENDAR
VERSION:2.0
PRODID:-//www.loftkoeln.de - ECPv5.14.2.1//NONSGML v1.0//EN
CALSCALE:GREGORIAN
METHOD:PUBLISH
X-WR-CALNAME:www.loftkoeln.de
X-ORIGINAL-URL:https://www.loftkoeln.de
X-WR-CALDESC:Veranstaltungen für www.loftkoeln.de
BEGIN:VTIMEZONE
TZID:UTC
BEGIN:STANDARD
TZOFFSETFROM:+0000
TZOFFSETTO:+0000
TZNAME:UTC
DTSTART:20080101T000000
END:STANDARD
END:VTIMEZONE
BEGIN:VEVENT
DTSTART;TZID=UTC:20080530T200000
DTEND;TZID=UTC:20080530T200000
DTSTAMP:20260420T054338
CREATED:20180118T085753Z
LAST-MODIFIED:20260117T085437Z
UID:7343-1212177600-1212177600@www.loftkoeln.de
SUMMARY:nô pintcha - don‘t stop // Kölner Konfrontation – Benefizkonzert für die Jazzgalerie in Nickelsdorf
DESCRIPTION:  \nPeter Brötzmann – ts.\nMagda Mayas – piano (Berlin)\nAchim Kaufmann – piano (Amsterdam)\nPhilip Zoubeck – piano\, Georg Graewe (Wien)\nDieter Manderscheid – bass\nPeter Van Bergen – reeds (Rotterdam)\nEric Boeren – tp (Amsterdam)\nThomas Lehn – Synthesizer\n Benjamin Weidekamp reeds (Berlin)\,\nMartin Blume percussion (Bochum) \nFrank Gratkowski – reeds \n\nSeit mehr als 30 Jahren ist die JAZZGALERIE NICKELSDORF MusikfreundInnen in aller Welt ein Begriff für ihre kompromisslose Tätigkeit als Forum und Laboratorium für zeitgenössisches Musikschaffen. Unzählige Clubkonzerte und das Festival KONFRONTATIONEN\, das 28 Mal in ununterbrochener Reihenfolge stattfand\, legen Zeugnis davon ab. Hier wurde Musikgeschichte geschrieben und Impulse gegeben\, die weit über Österreichs Grenzen hinausreichen. Eine Tätigkeit\, die schon immer auf wackeligen finanziellen Beinen stand und die jetzt vor dem Aus stehen könnte. Am 15. Jänner dieses Jahres ist das seit langem drohende und dennoch Undenkbare passiert: schlechte Geschäfte\, ausgebliebene Subventionen und außergewöhnliche Belastungen führten dazu\, dass Hans Falb\, Host\, Mastermind und finanzielles Rückgrat der JAZZGALERIE\, den Konkurs seiner Firma anmelden und das Restaurant schließen musste. Die diesem Ereignis vorangehende längere Periode der finanziellen Instabilität hatte vielerlei Ursachen. Eine davon ist sicherlich der in den letzten Jahren spärliche Besuch bei unseren Clubkonzerten\, die wir aber trotz geringer Auslastung beibehalten wollten\, da wir sie als wichtigen Bestandteil unsere kontinuierlichen Tätigkeit sehen\, die sich nicht nur in der jährlichen Präsentation des Festivals erschöpfen soll. Ein anderer ist die unzureichende Förderung und Unterstützung durch die Kulturpolitik\, die dieser Folgen schweren Selbstausbeutung nichts entgegenzusetzen hatte. Es erscheint nahezu grotesk\, dass einem ambitionierten Konzertbetrieb mit drei Jahrzehnten Tradition gerade jetzt\, nach dem Wegfall der Schengen-Grenzen und damit dem Eintritt in ein größeres Europa\, das auch Nickelsdorf vom Rand in die Mitte des Kontinents katapultiert hat\, das Ende droht. Um diese einmalige Initiative am Leben zu erhalten gehen die Einnahmen des Konzertes an den verein Jazzgalerie Nickeldorf\, damit auch dieses Jahr wieder ein Festival stattfinden kann. \nEintritt 10.-€uro/ 8.-€uro \n 
URL:https://www.loftkoeln.de/event/no-pintcha-don%e2%80%98t-stop-kolner-konfrontation-%e2%80%93-benefizkonzert-fur-die-jazzgalerie-in-nickelsdorf/
END:VEVENT
END:VCALENDAR