BEGIN:VCALENDAR
VERSION:2.0
PRODID:-//www.loftkoeln.de - ECPv5.14.2.1//NONSGML v1.0//EN
CALSCALE:GREGORIAN
METHOD:PUBLISH
X-WR-CALNAME:www.loftkoeln.de
X-ORIGINAL-URL:https://www.loftkoeln.de
X-WR-CALDESC:Veranstaltungen für www.loftkoeln.de
BEGIN:VTIMEZONE
TZID:UTC
BEGIN:STANDARD
TZOFFSETFROM:+0000
TZOFFSETTO:+0000
TZNAME:UTC
DTSTART:20000101T000000
END:STANDARD
END:VTIMEZONE
BEGIN:VEVENT
DTSTART;TZID=UTC:20001030T203000
DTEND;TZID=UTC:20001030T203000
DTSTAMP:20260424T104048
CREATED:20191006T075912Z
LAST-MODIFIED:20191006T075912Z
UID:12676-972937800-972937800@www.loftkoeln.de
SUMMARY:Nils Wogram & Root 70
DESCRIPTION:Nils Wogram – trombone\nHayden Chisholm -saxophone\, clarinet\nMatt Penman – bass\n Jochen Rückert – drums \n\n 
URL:https://www.loftkoeln.de/event/nils-wogram-root-70-2/
END:VEVENT
END:VCALENDAR