BEGIN:VCALENDAR
VERSION:2.0
PRODID:-//www.loftkoeln.de - ECPv5.14.2.1//NONSGML v1.0//EN
CALSCALE:GREGORIAN
METHOD:PUBLISH
X-WR-CALNAME:www.loftkoeln.de
X-ORIGINAL-URL:https://www.loftkoeln.de
X-WR-CALDESC:Veranstaltungen für www.loftkoeln.de
BEGIN:VTIMEZONE
TZID:UTC
BEGIN:STANDARD
TZOFFSETFROM:+0000
TZOFFSETTO:+0000
TZNAME:UTC
DTSTART:20010101T000000
END:STANDARD
END:VTIMEZONE
BEGIN:VEVENT
DTSTART;TZID=UTC:20010201T203000
DTEND;TZID=UTC:20010201T203000
DTSTAMP:20260424T174425
CREATED:20200418T111037Z
LAST-MODIFIED:20200418T111059Z
UID:14358-981059400-981059400@www.loftkoeln.de
SUMMARY:NILS TEGEN - SEBASTIAN RÄTHER - ROLAND HÖPPNER
DESCRIPTION:Nils Tegen – piano\nSebastian Räther – bass\nRoland Höppner- Schlagzeug \n\nDer Kölner Pianist und Schlagzeuger Nils Tegen spielt an diesem Abend im Trio vorwiegend Jazz im Songkontext aus eigener Feder. Energie steht hier wie immer bei ihm im Vordergrund und außerdem ist dieses Konzert seine Prüfung für die Musikhochschule Köln.
URL:https://www.loftkoeln.de/event/nils-tegen-sebastian-raether-roland-hoepner/
END:VEVENT
END:VCALENDAR