BEGIN:VCALENDAR
VERSION:2.0
PRODID:-//www.loftkoeln.de - ECPv5.14.2.1//NONSGML v1.0//EN
CALSCALE:GREGORIAN
METHOD:PUBLISH
X-WR-CALNAME:www.loftkoeln.de
X-ORIGINAL-URL:https://www.loftkoeln.de
X-WR-CALDESC:Veranstaltungen für www.loftkoeln.de
BEGIN:VTIMEZONE
TZID:Europe/Berlin
BEGIN:DAYLIGHT
TZOFFSETFROM:+0100
TZOFFSETTO:+0200
TZNAME:CEST
DTSTART:20250330T010000
END:DAYLIGHT
BEGIN:STANDARD
TZOFFSETFROM:+0200
TZOFFSETTO:+0100
TZNAME:CET
DTSTART:20251026T010000
END:STANDARD
END:VTIMEZONE
BEGIN:VEVENT
DTSTART;TZID=Europe/Berlin:20251118T200000
DTEND;TZID=Europe/Berlin:20251118T200000
DTSTAMP:20260424T104508
CREATED:20251004T150332Z
LAST-MODIFIED:20251031T072059Z
UID:31145-1763496000-1763496000@www.loftkoeln.de
SUMMARY:Nicolas Simion & Friends: Crazy World II | live recording
DESCRIPTION:Christian Altehülshorst – Trompete\nNicolas Simion – Reeds\nMartin Schulte – Gitarre & Elektronik\nSilvio Morger – Schlagzeug  \n\n(english: see below) \nWeitere Informationen zu den Preisen\, Karten-Reservierungen und den Öffnungszeiten finden Sie hier.\n\nvlnr: Christian Altehülshorst ; Nicolas Simion © Gerhard Richter ; Martin Schulte © Gerhard Richter ; Silvio Morger © Gerhard Richter\nVier exzellente Musiker improvisieren eine von Ethno-Elementen und starken Grooves geprägte Musik. Die neue Besetzung mit dem Trompeter Christian Altehülshorst\, dem Gitarristen Martin Schulte und dem Schlagzeuger Silvio Morger ist hochkarätig. Die Erfahrung der Musiker aus verschiedenen Generationen und Richtungen bringt viel Virtuosität und Originalität mit.\nEs ergeben sich Freiräume\, auch für wilde Momente in der Musik\, innerhalb und außerhalb der Kompositionsstrukturen. Akustische Klänge schmelzen wie immer bei einem Projekt von Nicolas Simion mit viel Energie und Spontaneität ganz natürlich zusammen. \nhttps://www.vanlaartrumpets.nl/de/?vanlaar_artist=christian-altehulshorst \nhttps://www.martinschulte.com/ \nhttps://de.wikipedia.org/wiki/Nicolas_Simion \nhttps://silviomorger.wordpress.com/ \n  \n\n\n\n\n\nChristian Altehülshorst – trumpet\nNicolas Simion – reeds\nMartin Schulte – guitar & electronics\nSilvio Morger – drums \nFurther information about prices\, ticket reservations and our opening times can be found here.\nFour excellent musicians improvise music characterized by ethnic elements and strong grooves. The new line-up with trumpeter Christian Altehülshorst\, guitarist Martin Schulte\, and drummer Silvio Morger is top-class. The experience of musicians from different generations and genres brings a great deal of virtuosity and originality.\nThis creates space for wild moments in the music\, both within and outside the compositional structures. As always in a Nicolas Simion project\, acoustic sounds melt together naturally with a lot of energy and spontaneity.
URL:https://www.loftkoeln.de/event/nicolas-simion-friends-crazy-world-ii-live-recording-2/
END:VEVENT
END:VCALENDAR