BEGIN:VCALENDAR
VERSION:2.0
PRODID:-//www.loftkoeln.de - ECPv5.14.2.1//NONSGML v1.0//EN
CALSCALE:GREGORIAN
METHOD:PUBLISH
X-WR-CALNAME:www.loftkoeln.de
X-ORIGINAL-URL:https://www.loftkoeln.de
X-WR-CALDESC:Veranstaltungen für www.loftkoeln.de
BEGIN:VTIMEZONE
TZID:UTC
BEGIN:STANDARD
TZOFFSETFROM:+0000
TZOFFSETTO:+0000
TZNAME:UTC
DTSTART:20140101T000000
END:STANDARD
END:VTIMEZONE
BEGIN:VEVENT
DTSTART;TZID=UTC:20140323T203000
DTEND;TZID=UTC:20140323T203000
DTSTAMP:20260424T104846
CREATED:20170323T123530Z
LAST-MODIFIED:20170323T123530Z
UID:4470-1395606600-1395606600@www.loftkoeln.de
SUMMARY:NICHT OHNE ROBERT Vol XIV: Nabatov/Manderscheid/Lytton/Landfermann
DESCRIPTION:Simon Nabatov – piano\nDieter Manderscheid – bass\nRobert Landfermann – bass\nPaul Lytton – drums \n\nDie Konzertreihe des Kölner Bassisten Robert Landfermann geht jetzt schon in das sechste Jahr. Simon Nabatov hatte er schon zu seinem ersten Konzert 2008 eingeladen\, sein geschätzter Lehrer und Mentor Dieter Manderscheid war auch Gast der Reihe. Diemal stehen also 2 Kontrabassisten im Mittelpunkt dieses erweiterten Klaviertrios – in Kombination mit dem britischen Schlagzeuger Paul Lytton ist Aufregendes zu erwarten.
URL:https://www.loftkoeln.de/event/nicht-ohne-robert-vol-xiv-nabatovmanderscheidlyttonlandfermann/
END:VEVENT
END:VCALENDAR