BEGIN:VCALENDAR
VERSION:2.0
PRODID:-//www.loftkoeln.de - ECPv5.14.2.1//NONSGML v1.0//EN
CALSCALE:GREGORIAN
METHOD:PUBLISH
X-WR-CALNAME:www.loftkoeln.de
X-ORIGINAL-URL:https://www.loftkoeln.de
X-WR-CALDESC:Veranstaltungen für www.loftkoeln.de
BEGIN:VTIMEZONE
TZID:UTC
BEGIN:STANDARD
TZOFFSETFROM:+0000
TZOFFSETTO:+0000
TZNAME:UTC
DTSTART:20160101T000000
END:STANDARD
END:VTIMEZONE
BEGIN:VEVENT
DTSTART;TZID=UTC:20161220T203000
DTEND;TZID=UTC:20161220T203000
DTSTAMP:20260424T122059
CREATED:20161128T151853Z
LAST-MODIFIED:20170102T124145Z
UID:2113-1482265800-1482265800@www.loftkoeln.de
SUMMARY:Nicht Ohne Robert Vol. 16
DESCRIPTION:Robert Landfermann – Kontrabass\nElisabeth Coudoux – Cello\nKaja Draksler – Piano\nPhilipp Zoubek – prep. Piano\nChristian Lillinger – Schlagzeug \n\nNach zwei jähriger Pause wieder im Loft: geleitet und produziert vom Kölner Bassisten Robert Landfermann ist diese Ausgabe nun das 16. Konzert der Reihe in 8 Jahren. Mehrere Konzerte sind auf Labels wie clean feed\, Jazzhausmusik und creative sources veröffentlicht worden.
URL:https://www.loftkoeln.de/event/nicht-ohne-robert-vol-16/
END:VEVENT
END:VCALENDAR