BEGIN:VCALENDAR
VERSION:2.0
PRODID:-//www.loftkoeln.de - ECPv5.14.2.1//NONSGML v1.0//EN
CALSCALE:GREGORIAN
METHOD:PUBLISH
X-WR-CALNAME:www.loftkoeln.de
X-ORIGINAL-URL:https://www.loftkoeln.de
X-WR-CALDESC:Veranstaltungen für www.loftkoeln.de
BEGIN:VTIMEZONE
TZID:UTC
BEGIN:STANDARD
TZOFFSETFROM:+0000
TZOFFSETTO:+0000
TZNAME:UTC
DTSTART:20120101T000000
END:STANDARD
END:VTIMEZONE
BEGIN:VEVENT
DTSTART;TZID=UTC:20121220T203000
DTEND;TZID=UTC:20121220T203000
DTSTAMP:20260421T142509
CREATED:20171010T133937Z
LAST-MODIFIED:20171010T133937Z
UID:5403-1356035400-1356035400@www.loftkoeln.de
SUMMARY:Multiple Joy[ce] Ensemble: Widmungen Kompositionen für improvisierendes Ensemble von Matthias Schubert
DESCRIPTION:Scott Fields – guit.\nElisabeth Fügemann –cello\nSebastian Gramss – bass\nFrank Gratkowski – as.\nCarl Ludwig Hübsch- tuba\nAxel Lindner – viol.\nUdo Moll –trp.\nMatthias Muche – trb.\nAngelika Sheridan – fl.\nHolger Werner- cl.\nPhillip Zoubek – piano \n\nDas Multiple Joy[ce] Ensemble spielt Kompositionen von Matthias Schubert\, die Widmungen an die  Komponisten  Messiaen\, Cage\, Frith\, Nancarrow\, Braxton\, Strawinsky\, Lachenmann\, Strayhorn\, Boulez und gleichzeitig an die Mitglieder des Ensembles sind.
URL:https://www.loftkoeln.de/event/multiple-joyce-ensemble-widmungen-kompositionen-fur-improvisierendes-ensemble-von-matthias-schubert/
END:VEVENT
END:VCALENDAR