BEGIN:VCALENDAR
VERSION:2.0
PRODID:-//www.loftkoeln.de - ECPv5.14.2.1//NONSGML v1.0//EN
CALSCALE:GREGORIAN
METHOD:PUBLISH
X-WR-CALNAME:www.loftkoeln.de
X-ORIGINAL-URL:https://www.loftkoeln.de
X-WR-CALDESC:Veranstaltungen für www.loftkoeln.de
BEGIN:VTIMEZONE
TZID:UTC
BEGIN:STANDARD
TZOFFSETFROM:+0000
TZOFFSETTO:+0000
TZNAME:UTC
DTSTART:20140101T000000
END:STANDARD
END:VTIMEZONE
BEGIN:VEVENT
DTSTART;TZID=UTC:20140428T203000
DTEND;TZID=UTC:20140428T203000
DTSTAMP:20260424T122303
CREATED:20170323T120141Z
LAST-MODIFIED:20170323T120141Z
UID:4446-1398717000-1398717000@www.loftkoeln.de
SUMMARY:Muche / Hein / Tang / Nillesen
DESCRIPTION:Matthias Muche – trb.\nNicola Hein  – guit.\nAchim Tang – bass\nEtienne Nillesen – drums \n\nDie Gruppe aus Köln spielt frei Improvisierte Musik in europäischer Tradition. Ihre Musik entsteht im Moment\, ohne vorher zurechtgelegte Konzepte oder Kompositionen. Neben der Lust an der freien Improvisation ist auch die Erweiterung traditioneller Spieltechniken – sowohl mit\, als auch ohne Präparationen – eine starke gemeinsame Basis\, mit der die Musiker dichte\, doch immer bewegliche Klanglandschaften kreieren\, in deren Verlauf auch Stille einen bedeutenden Platz einnimmt. Die Besetzung heterogener Instrumente –Streich\, Blas\, Percussions und Zupfinstrument – sorgt für enorme klangliche Möglichkeiten; dennoch ist es teilweise nicht auszumachen\, welches Instrument die Quelle des gehörten Klanges ist. \n  
URL:https://www.loftkoeln.de/event/muche-hein-tang-nillesen/
END:VEVENT
END:VCALENDAR